BEGIN:VCALENDAR
VERSION:2.0
PRODID:-//wp-events-plugin.com//7.2.3.1//EN
TZID:Europe/Berlin
X-WR-TIMEZONE:Europe/Berlin
BEGIN:VEVENT
UID:0-2377@sharepointsocial.de
DTSTART;TZID=Europe/Berlin:20240613T090000
DTEND;TZID=Europe/Berlin:20240613T120000
DTSTAMP:20240522T095525Z
URL:https://sharepointsocial.de/events/wissensmangement-webconference-micr
 osoft-365-sharepoint-ms-teams/
SUMMARY:Wissensmangement Webconference | Microsoft 365 Copilot - SharePoint
  - MS Teams
DESCRIPTION:Immer mehr Unternehmens schwören auf Microsoft 365 &amp\; Shar
 ePoint\, um Daten und Informationen im Unternehmen intelligent zu vernetze
 n. Doch noch immer bleibt der Einsatz vielerorts hinter den tatsächlichen
  Möglichkeiten zurück. Was können Microsoft 365 &amp\; SharePoint tats
 ächlich leisten? Welche Anwendungsszenarien gibt es? Wo liegen Optimierun
 gspotenziale? Und wie unterstützen die Microsoft-Tools die ressourcenscho
 nende Digitalisierung im Unternehmen?\n\n&nbsp\;\n09:00 - 09:30 | Microsof
 t 365 Copilot – der Blitz-Crashkurs: Überblick und Starthilfe zur Nutzu
 ng von Microsofts KI-Tool - mit Michael Greth\nDer Vortrag gibt Antworten 
 auf die wichtigsten Fragen\, die sich rund um den Copilot von Microsoft st
 ellen:\n\n\n 	Was ist Microsoft 365 Copilot?\n 	Wie grenzt es sich zu ande
 ren Tools wie ChatGPT ab?\n 	Wie integriert sich Copilot in die Microsoft 
 365 Welt?\n 	Was geht und was geht noch nicht?\n 	Wie findet man den Einst
 ieg?\n\nSie erhalten damit innerhalb von 30 Minuten eine eine kurze und pr
 aktische Anleitung für den Einstieg in die Copilot-Welt von Microsoft.\nD
 ie Vortagsinhalte im Überblick:\n\n\n 	Microsoft 365 Copilot - was ist da
 s\n 	ChatGPT &amp\; Co vs. Copilot\n 	Einführungsstrategie\n 	Usecases un
 d Anwendung\n 	Beispiele\n\nIm Anschluss an den Vortrag haben Sie die Mög
 lichkeit\, eigene Fragen an den Referenten zu stellen.\n\nIhr Referent:\n\
 n\n\n\n\n\nMichael Greth ist freiberuflicher Berater und Trainer\n\n\n
CATEGORIES:Konferenz,Meetup
LOCATION:https://www.wissensmanagement.net/events/ansicht.html?no_cache=1&t
 x_cal_controller%5Bview%5D=event&tx_cal_controller%5Btype%5D=tx_cal_phpica
 lendar&tx_cal_controller%5Buid%5D=1126&tx_cal_controller%5Blastview%5D=vie
 w-list%7Cpage_id-2861&tx_cal_controller%5Byear%5D=2024&tx_cal_controller%5
 Bmonth%5D=06&tx_cal_controller%5Bday%5D=13&cHash=6226889e6d6d7a272ca977168
 9ecbc9e
END:VEVENT
BEGIN:VTIMEZONE
TZID:Europe/Berlin
X-LIC-LOCATION:Europe/Berlin
BEGIN:DAYLIGHT
DTSTART:20240331T030000
TZOFFSETFROM:+0100
TZOFFSETTO:+0200
TZNAME:CEST
END:DAYLIGHT
END:VTIMEZONE
END:VCALENDAR