BEGIN:VCALENDAR
VERSION:2.0
PRODID:-//wp-events-plugin.com//7.2.3.1//EN
TZID:Europe/Berlin
X-WR-TIMEZONE:Europe/Berlin
BEGIN:VEVENT
UID:6-561@sharepointsocial.de
DTSTART;TZID=Europe/Berlin:20170926T100000
DTEND;TZID=Europe/Berlin:20170926T104500
DTSTAMP:20170920T133722Z
URL:https://sharepointsocial.de/events/webinar-mein-bot-und-ich-digitales-
 lernen-und-arbeiten/
SUMMARY:Webinar: Mein Bot und ich – digitales Lernen und Arbeiten
DESCRIPTION:Ein Wissensmanagement Webinar\n\nMein Bot und ich – digitales
  Lernen\, Arbeiten und Leben\n==============\nDurch deutlich verkürzte Te
 chnologielebens- und Innovationszyklen\, und die damit einhergehenden schi
 er unendlichen Kombinationsmöglichkeiten von Bots mit anderen kognitiven 
 Technologien und Integrationsmöglichkeiten mit ERP-\, CRM-\, SCM- bis hin
  zu Talentmanagement-Lösungen\, ergeben sich für Unternehmen völlig neu
 artige Ansätze für den internen und externen Wissenstransfer\, für Mita
 rbeiter- und Kundenschulungen\, für Prozessautomatisierungen und -optimie
 rungen.\n\n10:00 - 10:45 Uhr Mein Bot und ich – digitales Lernen\, Arbei
 ten und Leben\nWie verändert sich der Wissenstransfer? Wie ändert sich d
 ie Arbeitswelt? Und warum hängt das zusammen? Der Vortrag diskutiert aktu
 elle und künftige Technologien und Methoden\, die unsere individuellen Ar
 ten zu lernen\, zu arbeiten und zu leben beeinflussen.\n\n 	Bots &amp\; di
 gitale Plattformen\nVeränderungen und Herausforderungen in der unternehme
 rischen Weiterbildung\n 	Lösungen\nInnovationen und Entwicklungen im Wiss
 enstransfer und der arbeitsprozessintegrierten Mitarbeiterunterstützung\n
 \nDer Vortrag versucht unterschiedliche\, innovative und kognitive Technol
 ogien zu kombinieren\, um generationenübergreifende Lösungen zu schaffen
 \, die individuelles Lernen\, Arbeiten und Leben nachhaltig positiv verän
 dern.\n\nHier geht es zur kostenfreien Anmeldung\, wir nutzen gotowebinar:
  
CATEGORIES:Webcast
END:VEVENT
BEGIN:VTIMEZONE
TZID:Europe/Berlin
X-LIC-LOCATION:Europe/Berlin
BEGIN:DAYLIGHT
DTSTART:20170326T030000
TZOFFSETFROM:+0100
TZOFFSETTO:+0200
TZNAME:CEST
END:DAYLIGHT
END:VTIMEZONE
END:VCALENDAR