BEGIN:VCALENDAR
VERSION:2.0
PRODID:-//wp-events-plugin.com//7.2.3.1//EN
TZID:Europe/Berlin
X-WR-TIMEZONE:Europe/Berlin
BEGIN:VEVENT
UID:6-84@sharepointsocial.de
DTSTART;TZID=Europe/Berlin:20160303T140000
DTEND;TZID=Europe/Berlin:20160303T150000
DTSTAMP:20160204T095357Z
URL:https://sharepointsocial.de/events/webinar-inside-sharepoint-2016/
SUMMARY:Webinar – Inside SharePoint 2016
DESCRIPTION:Ein AvePoint Webinar\n\nReferenten: Samuel Zürcher\, Robert Mu
 lsow\nMit Spannung wird dieses Frühjahr SharePoint 2016 erwartet. Damit S
 ie schon vor dem Release bestens gewappnet sind\, nehmen unsere Experten g
 emeinsam mit Ihnen die nächste SharePoint-Generation genau unter die Lupe
 .\nIn einer ausgedehnten Fragerunde beantworten unsere Experten all Ihre F
 ragen und gehen speziell darauf ein:\n\n	Welche Erkenntnisse man aus dem S
 harePoint 2016 IT Preview Beta Testing gewinnen kann\n	Wie Kunden SharePoi
 nt Server Beta 2 einsetzen und welche Erfahrungen sie seit den neuesten Up
 dates gemacht haben\n	Was die neuen Features für Compliance und Hybrid Su
 pport für SharePoint und Ihr Unternehmen bedeuten\n	Welche Überlegungen 
 Sie VOR dem Upgrade zu SharePoint 2016 anstellen sollten\n\nAnmeldung und 
 Infos\nhttp://de.avepoint.com/sharepoint-2016-readiness-guide/\n\n&nbsp\;\
 n\n&nbsp\;\n\n&nbsp\;
CATEGORIES:Webcast
END:VEVENT
BEGIN:VTIMEZONE
TZID:Europe/Berlin
X-LIC-LOCATION:Europe/Berlin
BEGIN:STANDARD
DTSTART:20151025T020000
TZOFFSETFROM:+0200
TZOFFSETTO:+0100
TZNAME:CET
END:STANDARD
END:VTIMEZONE
END:VCALENDAR