BEGIN:VCALENDAR
VERSION:2.0
PRODID:-//wp-events-plugin.com//7.2.3.1//EN
TZID:Europe/Berlin
X-WR-TIMEZONE:Europe/Berlin
BEGIN:VEVENT
UID:0-1577@sharepointsocial.de
DTSTART;TZID=Europe/Berlin:20200903T093000
DTEND;TZID=Europe/Berlin:20200903T103000
DTSTAMP:20200824T095643Z
URL:https://sharepointsocial.de/events/webinar-automatisches-finden-und-lo
 eschen-von-personenbezogenen-daten-in-e-mails-und-dateien/
SUMMARY:Webinar - Automatisches Finden und Löschen von personenbezogenen D
 aten in E-Mails und Dateien
DESCRIPTION:Automatisches Finden und Löschen von E-Mails und Dateien\, die
  personenbezogene Daten enthalten und laut DSVGO gelöscht werden müssen.
 \n\n(30-Minuten-Webinar)\n\nData &amp\; More hat eine Softwarelösung entw
 ickelt\, die automatisch alle personenbezogenen Daten identifizieren und j
 e nach Löschpflicht direkt vernichten oder verschlüsseln kann.\n\nDa Mit
 arbeiter häufig keinen Überblick darüber haben\, wonach sie suchen und 
 wie sie mit den verschiedenen Dateien umgehen sollen\, ist die manuelle L
 ösungsvariante nicht nur ineffizient\, sondern auch ein sehr zeitaufwänd
 iges Verfahren.\n\nIn der Praxis ist es somit eine fast unmögliche Aufgab
 e\, so viele tausende Dateien durchzusehen\, zu prüfen und aufzuräumen.\
 n\nData &amp\; More hat bisher mehr als 1 Milliarde Dateien von mehr als 
 über 100 verschiedenen Unternehmen analysiert und darauf basierend eine e
 infache\, effiziente und automatische DSGVO Lösung entwickelt. Die Data &
 amp\; More Lösung indexiert und löschst automatisch Dateien aus allen bi
 sher unstrukturierten Quellen: Outlook\, Exchange\, File Ordner\, SharePoi
 nt\, O365\, OneDrive\, Teams etc.\n\nIm Webinar zeigen wir Ihnen:\n\n• d
 ie Integration zu Outlook\, Exchange\, File Ordnern\, SharePoint\, O365\, 
 OneDrive\, Teams\n\n• wie man automatisch alle personenbezogenen Dateien
  identifiziert kann\n\n• wie man automatisch Datenkategorien identifizie
 ren kann\n\n• wie man einfach mit dem Löschkonzept\, Löschaufträgen u
 nd Datenkategorien arbeiten kann\n\n• wie Sie die Dokumentationsplicht i
 n Echtzeit überwachen können\, z.B. in PowerBI und Reporting Dashboards
 \n\n• wie man dem End-User automatisch eine persönliche Übersicht zuko
 mmen lässt\, in der aufgezeigt wird\, um welche personenbezogenen Dateien
  es sich handelt und welche Löschpflicht vorliegt\n\n• wie die Toolbox 
 von Data &amp\; More die Fähigkeit von Microsoft verbessert und wie man s
 ie in Microsoft integriert\n\nMit freundlichen Grüssen\n\nData &amp\; Mor
 e\n\nDan Thomsen
CATEGORIES:Webcast
LOCATION:https://app.livestorm.co/data-more-aps/webinar-automatisches-finde
 n-und-loeschen-von-personenbezogene-in-daten-e-mails-und-dateien
END:VEVENT
BEGIN:VTIMEZONE
TZID:Europe/Berlin
X-LIC-LOCATION:Europe/Berlin
BEGIN:DAYLIGHT
DTSTART:20200329T030000
TZOFFSETFROM:+0100
TZOFFSETTO:+0200
TZNAME:CEST
END:DAYLIGHT
END:VTIMEZONE
END:VCALENDAR