BEGIN:VCALENDAR
VERSION:2.0
PRODID:-//wp-events-plugin.com//7.2.3.1//EN
TZID:Europe/Berlin
X-WR-TIMEZONE:Europe/Berlin
BEGIN:VEVENT
UID:0-1725@sharepointsocial.de
DTSTART;TZID=Europe/Berlin:20210224T110000
DTEND;TZID=Europe/Berlin:20210224T114500
DTSTAMP:20210211T130047Z
URL:https://sharepointsocial.de/events/webinar-8-neue-microsoft-teams-funk
 tionen-die-sie-kennen-sollten/
SUMMARY:Webinar: 8 neue Microsoft Teams-Funktionen\, die Sie kennen sollten
DESCRIPTION:Kompakt vorgestellt und sofort anwendbar - ein IOZ webinar\n\nI
 n Microsoft Teams stehen viele neue Funktionalitäten zur Verfügung. Im k
 ostenlosen Webinar stellen wir Ihnen 8 davon vor und zeigen auf\, wie Sie
  diese sofort nutzen und anwenden können. Und wir werfen einen Blick auf 
 die Roadmap und erläutern\, welche Neuerungen uns in naher Zukunft erwart
 en.\n\nReferent: Marcel Kurmann\, Projektleiter aus dem Team Collaboration
 \n\nDatum: 24.02.2021\nZeit: 11:00 - 11:45\n\nIm Webinar wird Marcel Kurma
 nn auf die folgenden Punkte eingehen:\n\nChannel-Kalender zu Teams hinzuf
 ügen\nLobby-Funktionalitäten\nBreakout Rooms\nAufzeichnungen (Recordings
 ) von Meetings\nHerunterladen von Teilnehmer-Listen\nE-Mails verschieben v
 on Outlook nach Teams\nAnfragen stellen und bewilligen\nDiverse Neuerungen
  an der Benutzeroberfläche\nBlick auf die Roadmap und kommende Neuerungen
CATEGORIES:UserGroup,Webcast
LOCATION:https://www.ioz.ch/de/teams-webinar-8-neuerungen-februar-2021.html
END:VEVENT
BEGIN:VTIMEZONE
TZID:Europe/Berlin
X-LIC-LOCATION:Europe/Berlin
BEGIN:STANDARD
DTSTART:20201025T020000
TZOFFSETFROM:+0200
TZOFFSETTO:+0100
TZNAME:CET
END:STANDARD
END:VTIMEZONE
END:VCALENDAR