BEGIN:VCALENDAR
VERSION:2.0
PRODID:-//wp-events-plugin.com//7.2.3.1//EN
TZID:Europe/Berlin
X-WR-TIMEZONE:Europe/Berlin
BEGIN:VEVENT
UID:6-64@sharepointsocial.de
DTSTART;TZID=Europe/Berlin:20160121T140000
DTEND;TZID=Europe/Berlin:20160121T150000
DTSTAMP:20160111T142031Z
URL:https://sharepointsocial.de/events/webcast-5-collabtalk-dach/
SUMMARY:Webcast 5. CollabTalk DACH
DESCRIPTION:Im 5. CollabTalkDACH diskutieren Martina Grom\, Michael Greth\,
  Samuel Zuercher und NIcki Borell die Themen:\n\n	Next Generation Sync Cli
 ent\n	Was erwartet uns 2016: SharePoint 2016\, Office Planer\, Outlook Gro
 ups\, PowerApps und noch einiges mehr wird Thema sein.\n\nWir freuen uns 
 über viele Fragen im Live Chat!\nAnmeldung\nAnmeldeseite
ATTACH;FMTTYPE=image/jpeg:https://sharepointsocial.de/files/2015/09/Collab
 Talk-DACH.jpg
CATEGORIES:Webcast
END:VEVENT
BEGIN:VTIMEZONE
TZID:Europe/Berlin
X-LIC-LOCATION:Europe/Berlin
BEGIN:STANDARD
DTSTART:20151025T020000
TZOFFSETFROM:+0200
TZOFFSETTO:+0100
TZNAME:CET
END:STANDARD
END:VTIMEZONE
END:VCALENDAR