BEGIN:VCALENDAR
VERSION:2.0
PRODID:-//wp-events-plugin.com//7.2.3.1//EN
TZID:Europe/Berlin
X-WR-TIMEZONE:Europe/Berlin
BEGIN:VEVENT
UID:0-2392@sharepointsocial.de
DTSTART;TZID=Europe/Berlin:20240704T160000
DTEND;TZID=Europe/Berlin:20240704T180000
DTSTAMP:20240627T133735Z
URL:https://sharepointsocial.de/events/was-bringen-passkeys-in-entra-id-hy
 brid-mit-teams/
SUMMARY:Was bringen Passkeys in Entra ID (Hybrid mit Teams)
DESCRIPTION:Liebe Microsoft 365 Community Schweiz\nWir haben wieder ein spa
 nnendes Event geplant.\nOrt &amp\; Sprache:\nOrt: Isolutions AG\, Schanzen
 strasse 4c\, 3008 Bern (Hybrid mit Teams)\nSprache: DE\nWas bringen Passke
 ys in Entra ID?\nSeit kurzem kann man gerätegebundene Passkeys auch mit E
 ntra ID und dem Microsoft Authenticator nutzen. Passkeys sind modern\, pas
 swortlos und vor allem Phishingresistent.\nIn dieser Präsentation zeigen 
 euch Stefan Kumli und Andres Bohren\, wie man Passkeys in Entra ID einr
 ichtet\, wo Abhängigkeiten bestehen und welche Szenarien in M365 damit ab
 gedeckt werden können.\nWer Feedback zur Session einreicht\, nimmt an der
  Verlosung eines „YubiKey Bio-FIDO Edition“ teil.\nAgenda:\n17:45 Welc
 ome\n18:00 Was bringen Passkeys in Entra ID?\n19:00 Apero und Community Au
 stausch\n20:00 End of Event\nTeams Link: Join the meeting now\nAnmeldung:
  https://www.meetup.com/m365switzerland/events/301713957
CATEGORIES:Meetup
LOCATION:isolutions ag\, Schanzenstrasse 4c\, Bern\, 3008 \, Schweiz
GEO:46.9481563;7.437449499999957
X-APPLE-STRUCTURED-LOCATION;VALUE=URI;X-ADDRESS=Schanzenstrasse 4c\, Bern\,
  3008 \, Schweiz;X-APPLE-RADIUS=100;X-TITLE=isolutions ag:geo:46.9481563,7
 .437449499999957
END:VEVENT
BEGIN:VTIMEZONE
TZID:Europe/Berlin
X-LIC-LOCATION:Europe/Berlin
BEGIN:DAYLIGHT
DTSTART:20240331T030000
TZOFFSETFROM:+0100
TZOFFSETTO:+0200
TZNAME:CEST
END:DAYLIGHT
END:VTIMEZONE
END:VCALENDAR