BEGIN:VCALENDAR
VERSION:2.0
PRODID:-//wp-events-plugin.com//7.2.3.1//EN
TZID:Europe/Berlin
X-WR-TIMEZONE:Europe/Berlin
BEGIN:VEVENT
UID:6-93@sharepointsocial.de
DTSTART;TZID=Europe/Berlin:20160225T140000
DTEND;TZID=Europe/Berlin:20160225T160000
DTSTAMP:20160210T081857Z
URL:https://sharepointsocial.de/events/virtual-summit-sichere-zusammenarbe
 it-und-kommunikation-mit-office-365-surface-und-enterprise-mobility-suite/
SUMMARY:Virtual Summit - Sichere Zusammenarbeit und Kommunikation mit Offic
 e 365\, Surface und Enterprise Mobility Suite
DESCRIPTION:Ein Microsoft Webinar\n\nDie problemlose und sichere Kommunikat
 ion ist einer der wichtigsten Faktoren für ein gut funktionierendes Unter
 nehmen.\n\nErfahren Sie beim „Virtual Summit – Sichere Zusammenarbeit 
 und Kommunikation mit Office 365\, Surface und Enterprise Mobility Suite
 “\, welche Vorteile das Zusammenspiel von Office 365 und Surface speziel
 l für Ihr Unternehmen bietet. Darüber hinaus informieren wir Sie über d
 en sicheren Datenaustausch beim Einsatz von Cloud-Anwendungen und mobilen 
 Geräten. Wir laden Sie hiermit herzlich zu unserem kostenlosen Virtual Su
 mmit am 25. Februar 2016 in der Zeit von 14 bis 16 Uhr ein!\nAgenda\n\n\n\
 n14:00 - 14:10\nMobilität heute - "Das neue Arbeiten"\nWie sieht der digi
 tale Arbeitsplatz der Zukunft aus\, was bedeutet das neue Arbeiten? Was is
 t der Mehrwert (messbar\, nicht messbar)? Welche Werkzeuge (Hardware/Softw
 are) werden eingesetzt?Peter Fischer\, Group Manager Business Productivity
 \, Microsoft Deutschland GmbH\n\n\n14:10 - 14:30\nZeitgemäße Kommunikati
 on\nWie kommuniziere ich mit Konferenz- und Telefoniediensten aus der Clou
 d? Welche Kommunikationskanäle und Tools nutze ich wann und wie? Was brin
 gt mir Skype for Business an Vorteilen? Wie kann ich mit traditioneller Te
 lefonie und Skype for Business umgehen? Was sind typische Stolperfallen\, 
 auf die ich aufpassen sollte?Martina Grom\, Microsoft Most Valuable Profes
 sional (MVP) für Office Servers and Services\n\n\n14:30 - 14:50\nDas Inte
 rnet als Unternehmensnetzwerk: Datensicherheit und Compliance\nDaten liege
 n heute nicht mehr nur On-Premises. Wie schütze ich meine Daten in der Pu
 blic Cloud vor fremden Zugriffen? Wie kann ich mit modernen Sicherheitsmet
 hoden Zugriffe kontrollieren und Dokumentsicherheit gewährleisten? Was bi
 eten die neuen Office 365 Tools um höchste Sicherheitsstandards umzusetze
 n?Martina Grom\, Microsoft Most Valuable Professional (MVP) für Office Se
 rvers and Services\n\n\n14:50 - 15:15\nSurface als Frontend für modernes 
 Arbeiten\nDas neue Mitglied in der Surface Familie: der erste vollwertige 
 Laptop für größtmögliche Produktivität. Better together - wie erleich
 tert Surface und Windows 10 die Nutzung von Microsoft Cloud-Diensten.Techn
 ologieberater Microsoft Deutschland GmbH\n\n\n15:15 - 15:40\nEnterprise Mo
 bility heute\nWas ist Enterprise Mobility? Die Bausteine sind die Identit
 ät als gemeinsamer Nenner und die Sicherheit durch Multifactor-Authentifi
 zierung. Wie sieht die Implementation seitens Microsoft aus? Die Bausteine
  sind Azure Active Directory\, Microsoft Intune und Azure Rights Managemen
 t.Peter Nowak\, Microsoft Most Valuable Professional (MVP) für Windows De
 velopment\n\n\n15:40 - 16:00\nFragen und Antworten\n\n\n\nAnmeldung\nEvent
 website
CATEGORIES:Webcast
END:VEVENT
BEGIN:VTIMEZONE
TZID:Europe/Berlin
X-LIC-LOCATION:Europe/Berlin
BEGIN:STANDARD
DTSTART:20151025T020000
TZOFFSETFROM:+0200
TZOFFSETTO:+0100
TZNAME:CET
END:STANDARD
END:VTIMEZONE
END:VCALENDAR