BEGIN:VCALENDAR
VERSION:2.0
PRODID:-//wp-events-plugin.com//7.2.3.1//EN
TZID:Europe/Berlin
X-WR-TIMEZONE:Europe/Berlin
BEGIN:VEVENT
UID:6-60@sharepointsocial.de
DTSTART;TZID=Europe/Berlin:20151119T140000
DTEND;TZID=Europe/Berlin:20151119T160000
DTSTAMP:20151023T165203Z
URL:https://sharepointsocial.de/events/virtual-summit-office-2016/
SUMMARY:Virtual Summit Office 2016
DESCRIPTION:Ein Microsoft Online Event\nAuf gute Zusammenarbeit! Die Vortei
 le von Office 2016\, Neues Arbeiten mit Office 365\, Sales Productivity mi
 t Microsoft Dynamics CRM\, Bereitstellung und Einsatz von Cloud Services u
 nd Office.\nAgenda\n&nbsp\;\n\n\n\nZeit\nThema\n\n\n14:00 - 14:10\nOffice 
 2016\, Office 365 und die Office Mobile Apps – ein Überblick\nPeter Fis
 cher\, Group Manager Business Productivity\, Microsoft Office Division\nMi
 crosoft Deutschland GmbH\n\n\n14:10 - 14:30\nDas neue Office. Auf gute Zus
 ammenarbeit! Die Vorteile von Office 2016\, Demo der neuen Features\, Verg
 leich mit Office 2013\nUlrike Grewe\, Product Marketing Manager Office &am
 p\; Office auf mobilen Geräten\nMicrosoft Deutschland GmbHPeter Fischer\,
  Group Manager Business Productivity\, Microsoft Office Division\nMicrosof
 t Deutschland Gmb\n\n\n14:30 - 15:00\nNeues Arbeiten mit Office 365: Innov
 ationen und Mehrwerte für den Endanwender und die IT Was den Endanwender 
 und die IT glücklich macht: \n\n	die Vorteile von Office 365 für die tä
 gliche Arbeit\n	einfaches Deployment und neue Funktionen für die IT\n\nEl
 mar Witte\, Product Marketing Manager Office 365\nMicrosoft Deutschland Gm
 bH\n\n\n15:00 - 15:20\nSales Productivity mit Microsoft Dynamics CRM: "Fü
 hlt sich wie Office an" Ein starkes Duo: Office 2016 und Dynamics CRM im Z
 usammenspiel\nJulian Heister\, Product Marketing Manager Microsoft Dynamic
 s CRM Online\nMicrosoft Deutschland GmbH\n\n\n15:20 - 15:40\nPraxisnah: Be
 reitstellung und Einsatz von Cloud Services und Office anhand von Kundenbe
 ispielen\n\nOliver Seipp\, Microsoft Innovation Architect\nMicrosoft Deuts
 chland GmbH\n\n\n15:40 - 16:00\nFragen und Antworten\n\n\n\n&nbsp\;\nAnmel
 dung\n&nbsp\;
CATEGORIES:Konferenz
END:VEVENT
BEGIN:VTIMEZONE
TZID:Europe/Berlin
X-LIC-LOCATION:Europe/Berlin
BEGIN:STANDARD
DTSTART:20151025T020000
TZOFFSETFROM:+0200
TZOFFSETTO:+0100
TZNAME:CET
END:STANDARD
END:VTIMEZONE
END:VCALENDAR