BEGIN:VCALENDAR
VERSION:2.0
PRODID:-//wp-events-plugin.com//7.2.3.1//EN
TZID:Europe/Berlin
X-WR-TIMEZONE:Europe/Berlin
BEGIN:VEVENT
UID:0-1773@sharepointsocial.de
DTSTART;TZID=Europe/Berlin:20210517T100000
DTEND;TZID=Europe/Berlin:20210520T160000
DTSTAMP:20210416T134119Z
URL:https://sharepointsocial.de/events/virtual-events-powerweek/
SUMMARY:Virtual Events Powerweek
DESCRIPTION:Seit gut einem Jahr spielt sich unser beruflicher Alltag (fast)
  ausschließlich virtuell ab. So gut wie alle Events mussten aufgrund der 
 COVID-19-Pandemie verschoben oder sogar abgesagt werden. Einige Events sin
 d allerdings erfolgreich von der realen in die digitale Welt umgezogen und
  begeistern nun virtuell die Teilnehmer.\nAber wie können Sie selbst ein 
 virtuelles oder sogar hybrides Event organisieren? Was müssen Sie hierbei
  beachten? Und welche technische Ausstattung benötigen Sie für einen rei
 bungslosen Ablauf?\nMichael Greth und Gernot Kühn zeigen Ihnen bei der Mi
 crosoft Virtual Events Powerweek\, wie Sie ganz einfach Ihr Event planen\,
  durchführen und nachbereiten können. Dabei gehen wir vom Kleinen zum Gr
 oßen – bis hin zu hybriden Eventkonzepten\, die die reale und digitale 
 Welt künftig gekonnt vereinen werden.\nIm Rahmen der Powerweek haben Sie 
 die Möglichkeit\, an verschiedenen Webcasts und Online-Experten-Talks tei
 lzunehmen\, um für Ihr nächstes virtuelles/hybrides Event noch besser ge
 wappnet zu sein. Seien Sie dabei und melden Sie sich direkt für die Kick-
 off-Veranstaltung an!\n&nbsp\;\nAgenda\n\n\n\nMONTAG\, 17. MAI\n\n\n10:00 
 - 11:30 UHR\nKick-off &amp\; HowTo: Live-Events Basics\n\n\n\n\nUnser Kick
 -off der Virtual Events Powerweek steht ganz im Zeichen der Live-Events Gr
 undlagen. Nachdem wir Ihnen eine kurze Einführung in unser exklusives Mic
 rosoft Teams (zu dem Sie im Vorfeld eingeladen werden) gegeben haben\, wol
 len wir gemeinsam den Grundstein für die Powerweek legen. Wir zeigen Ihne
 n welche Eventformate Sie mit Microsoft 365 realisieren können und welche
  Besonderheiten diese haben\, welche Aufgaben und Rollen im Rahmen eines L
 ive-Events zu berücksichtigen sind und welche technischen Voraussetzungen
  vorhanden sein müssen.\nSpeaker:\nMichael Greth\, Gernot Kühn und Sebas
 tian Grassl\n\n\nMehr\n\n\n15:00 - 16:00 UHR\nExperten-Talk: Virtuelle Eve
 nts Basics\n\n\n\n\nIn unserem heutigen Experten-Talk fokussieren wir uns 
 auf Best Practices und Success Stories aus der Praxis von Microsoft und un
 seren Partnern mit Schwerpunkt „Virtuelle Events Basics“.\n\nSie haben
  hier die Möglichkeit\, entweder im Vorfeld über den jeweiligen Microsof
 t Teams Kanal Fragen\, Anregungen oder Themenvorschläge einzureichen oder
  sich direkt während der Session an der Diskussion zu beteiligen (Chat/Au
 dio).\n\nWir freuen und auf einen regen Austausch mit Ihnen.\nSpeaker:\nMi
 chael Greth Gernot Kühn und weitere Talkgäste\n\n\nMehr\n\n\nDIENSTAG\, 
 18. MAI\n\n\n10:00 - 11:00 UHR\nHowTo: Virtuelle Events ganz einfach plane
 n und organisieren\n\n\n\n\nAm zweiten Tag unserer Virtual Events Powerwee
 k zeigen unsere Expert*innen wie Sie Microsoft Teams als effektive Eventum
 gebung nutzen und dort ganz einfach verschiedene Webinare einrichten könn
 en. Außerdem schauen wir uns die unterschiedlichen Interessengruppen eine
 s virtuellen Events im Detail an (Teilnehmer\, Referenten\, Organisationst
 eam)\, welche Aufgaben wem zukommen\, wie diese in die Kommunikation einge
 bunden werden und wie Sie alles auf dem Schirm behalten.\nSpeaker:\nMichae
 l Greth und Gernot Kühn\n\n\nMehr\n\n\n15:00 - 16:00 UHR\nExperten-Talk /
  Best Practices: Virtuelle Events Advanced\n\n\n\n\nIn unserem heutigen Ex
 perten-Talk fokussieren wir uns auf Best Practices und Success Stories aus
  der Praxis von Microsoft und unseren Partnern mit Schwerpunkt „Virtuell
 e Events Advanced“.\n\nSie haben hier die Möglichkeit\, entweder im Vor
 feld über den jeweiligen Microsoft Teams Kanal Fragen\, Anregungen oder T
 hemenvorschläge einzureichen oder sich direkt während der Session an der
  Diskussion zu beteiligen (Chat/Audio).\n\nWir freuen und auf einen regen 
 Austausch mit Ihnen.\nSpeaker:\nMichael Greth Gernot Kühn und weitere Tal
 kgäste\n\n\nMehr\n\n\n\n\nMITTWOCH\, 19. MAI\n\n\n10:00 - 11:00 UHR\nHowT
 o: Hybride Events erfolgreich durchführen\n\n\n\n\nFokusthema hybride Eve
 nts: Unsere Experten*innen nehmen Sie am dritten Tag der Virtual Events Po
 werweek mit in die Zukunft der Eventbranche. Hybride Events feiern schon h
 eute große Erfolge und werden nicht zuletzt aufgrund von COVID-19 das "Ne
 w Normal" der Eventbranche maßgeblich formen. Hierbei spielt besonders da
 s Setup der Live Events in Microsoft Teams\, vor Ort und letztendlich auch
  das Set up des Remote Speakern eine enorm wichtige Rolle. Wir zeigen Ihne
 n was Sie hierbei beachten müssen und wie Sie den Encoder (OBS) richtig e
 inrichten. Als optimale Eventumgebung bietet Microsoft Teams zudem auch di
 e ideale Plattform für die eventbegleitende Kommunikation während des Ev
 ents.\nSpeaker:\nMichael Greth und Gernot Kühn\n\n\nMehr\n\n\n15:00 - 16:
 00 UHR\nExperten-Talk / Best Practices: Hybride Events\n\n\n\n\nIn unserem
  heutigen Experten-Talk fokussieren wir uns auf Best Practices und Success
  Stories aus der Praxis von Microsoft und unseren Partnern mit Schwerpunkt
  „Hybride Events“.\n\nSie haben hier die Möglichkeit\, entweder im Vo
 rfeld über den jeweiligen Microsoft Teams Kanal Fragen\, Anregungen oder 
 Themenvorschläge einzureichen oder sich direkt während der Session an de
 r Diskussion zu beteiligen (Chat/Audio).\n\nWir freuen und auf einen regen
  Austausch mit Ihnen.\nSpeaker:\nMichael Greth\, Gernot Kühn und weitere 
 Talkgäste\n\n\nMehr\n\n\nDONNERSTAG\, 20. MAI\n\n\n10:00 - 11:00 UHR\nHow
 To: Technik - Ein ❤ für Technik die überzeugt\n\n\n\n\nNatürlich spie
 lt bei virtuellen und hybriden Eventformaten die Technik eine entscheidend
 e Rolle. Am letzten Tag unserer Virtual Events Powerweek widmen sich unser
 e Expert*innen der Technik eines erfolgreichen Events. Dabei wollen wir Ih
 nen Tipps und Empfehlungen für gutes (!) Equipment (Kamera\, Mikrofon\, L
 icht\, Studio\, Netzwerk etc.) geben und legen hierbei besonderen Wert auf
  bezahlbare sowie in der Praxis bereits getestete Technik. Zudem wollen wi
 r Ihnen mit einfachen Klicks zeigen\, wie Sie Ihre Events via Microsoft Te
 ams für jeden zugänglich machen können (Übersetzungen\, Transkriptione
 n etc.).\nSpeaker:\nMichael Greth Gernot und Kühn\n\n\nMehr\n\n\n15:00 - 
 16:00 UHR\nExperten-Talk / Best Practices: Ein ❤ für Technik die überz
 eugt\n\n\n\n\nIn unserem heutigen Experten-Talk fokussieren wir uns auf Be
 st Practices und Success Stories aus der Praxis von Microsoft und unseren 
 Partnern mit Schwerpunkt „Technik\, die überzeugt“.\n\nSie haben hier
  die Möglichkeit\, entweder im Vorfeld über den jeweiligen Microsoft Tea
 ms Kanal Fragen\, Anregungen oder Themenvorschläge einzureichen oder sich
  direkt während der Session an der Diskussion zu beteiligen (Chat/Audio).
 \n\nWir freuen und auf einen regen Austausch mit Ihnen.\nSpeaker:\nMichael
  Greth\, Gernot Kühn und weitere Talkgäste\n\n\nMehr\n\n\n
CATEGORIES:Konferenz,Meetup
LOCATION:http://bit.ly/vepwk
END:VEVENT
BEGIN:VTIMEZONE
TZID:Europe/Berlin
X-LIC-LOCATION:Europe/Berlin
BEGIN:DAYLIGHT
DTSTART:20210328T030000
TZOFFSETFROM:+0100
TZOFFSETTO:+0200
TZNAME:CEST
END:DAYLIGHT
END:VTIMEZONE
END:VCALENDAR