BEGIN:VCALENDAR
VERSION:2.0
PRODID:-//wp-events-plugin.com//7.2.3.1//EN
TZID:Europe/Berlin
X-WR-TIMEZONE:Europe/Berlin
BEGIN:VEVENT
UID:6-72@sharepointsocial.de
DTSTART;TZID=Europe/Berlin:20160208T070000
DTEND;TZID=Europe/Berlin:20160211T220000
DTSTAMP:20160126T145759Z
URL:https://sharepointsocial.de/events/unityconnect-online/
SUMMARY:UnityConnect Online
DESCRIPTION:Unity Connect Online - a free of charge event - brings together
  dozens of the world's top experts in SharePoint and Office 365\, as well 
 as leaders from Microsoft's marketing and engineering teams\, to deliver a
  powerful and unique combination of perspective\, vision\, and deep expert
 ise.\n\nMore than 40 sessions are delivered live\, online\, in a highly in
 teractive format in that enables you to get all of the answers to your big
 gest SharePoint and Office 365 questions and guidance to aligning the powe
 rful capabilities of these technologies—today and tomorrow—with your b
 usiness strategies and objectives.\n\n&nbsp\;\nInfo\, Agenda and Registrat
 ion\nhttps://www.unityconnect.com/online
CATEGORIES:Konferenz
END:VEVENT
BEGIN:VTIMEZONE
TZID:Europe/Berlin
X-LIC-LOCATION:Europe/Berlin
BEGIN:STANDARD
DTSTART:20151025T020000
TZOFFSETFROM:+0200
TZOFFSETTO:+0100
TZNAME:CET
END:STANDARD
END:VTIMEZONE
END:VCALENDAR