BEGIN:VCALENDAR
VERSION:2.0
PRODID:-//wp-events-plugin.com//7.2.3.1//EN
TZID:Europe/Berlin
X-WR-TIMEZONE:Europe/Berlin
BEGIN:VEVENT
UID:6-85@sharepointsocial.de
DTSTART;TZID=Europe/Berlin:20160229T183000
DTEND;TZID=Europe/Berlin:20160229T210000
DTSTAMP:20160204T100156Z
URL:https://sharepointsocial.de/events/treffen-der-sharepoint-user-group-s
 tuttgart-februar-2016/
SUMMARY:Treffen der SharePoint User Group Stuttgart Februar 2016
DESCRIPTION:Hallo\,\n\nhier nun die Einladung zum 43. Treffen der SharePoin
 t Usergroup Stuttgart.\n\nDiesmal stellt uns wieder die Communardo in Ec
 hterdingen die Räumlichkeiten zur Verfügung.\n\nACHTUNG: Dieser Termin f
 indet an einem MONTAG statt\, nicht wie sonst üblich am Dienstag.\n\n29.2
 .2016 - 18:30 Uhr\n\nCommunardo Software GmbH\nLeinfelder Straße 64\n7077
 1 Leinfelden-Echterdingen\n\nThemen:\n\n----------------------------------
 ---\n\nMartin Kurz von der Evocom wird uns zeigen:\n\n"Search Display Temp
 lates - Search Customizing\, eine Einführung"\n\n&nbsp\;\n\nRobert Schöb
 el von der Communardo und ich\, Thomas Tuttenuj von der Intrasys werden di
 ese Themen vorstellen:\n\nOffice365:\n- Wie wird der Planner bzw. das Plan
 ning-Board verwendet\n- Groups/Office Graph / Delve – Microsoft stellt d
 iese Technologien und Apps in den Vordergrund. Diskussion zur Strategie vo
 n MS notwendig\n- SharePoint 2016 OnPremise - wird werden eine aktuelle De
 moVM haben und können da gern gemeinsam durchklicken.
CATEGORIES:UserGroup
LOCATION:Communardo Software GmbH\, Leinfelder Straße 64\, Leinfelden-Echt
 erdingen\, 70771\, Deutschland
GEO:48.69202000000001;9.158320000000003
X-APPLE-STRUCTURED-LOCATION;VALUE=URI;X-ADDRESS=Leinfelder Straße 64\, Lei
 nfelden-Echterdingen\, 70771\, Deutschland;X-APPLE-RADIUS=100;X-TITLE=Comm
 unardo Software GmbH:geo:48.69202000000001,9.158320000000003
END:VEVENT
BEGIN:VTIMEZONE
TZID:Europe/Berlin
X-LIC-LOCATION:Europe/Berlin
BEGIN:STANDARD
DTSTART:20151025T020000
TZOFFSETFROM:+0200
TZOFFSETTO:+0100
TZNAME:CET
END:STANDARD
END:VTIMEZONE
END:VCALENDAR