BEGIN:VCALENDAR
VERSION:2.0
PRODID:-//wp-events-plugin.com//7.2.3.1//EN
TZID:Europe/Berlin
X-WR-TIMEZONE:Europe/Berlin
BEGIN:VEVENT
UID:0-2410@sharepointsocial.de
DTSTART;TZID=Europe/Berlin:20240903T190000
DTEND;TZID=Europe/Berlin:20240903T210000
DTSTAMP:20240829T103904Z
URL:https://sharepointsocial.de/events/torsten-strauss-columnstore-index-i
 n-auzre-sql/
SUMMARY:Torsten Strauss: Columnstore index in Auzre SQL
DESCRIPTION:In this session\, you will learn about the benefits of using co
 lumnstore indexes for big data analytics in Azure SQL. We will look at how
  SQL Server efficiently compresses large amounts of data\, creating the ba
 sis for extreme memory and storage savings and super-fast queries through 
 segment elimination. We will understand the lifecycle of row groups and th
 e maintenance required to ensure that query performance scales as data vol
 umes grow. In addition\, we will use some dynamic management views to asse
 ss the health of the columnstore indices.\n\n&nbsp\;\n\nAnmeldung hier üb
 er Meetup Torsten Strauss: Columnstore index in Auzre SQL\, Tue\, Sep 3\, 
 2024\, 7:00 PM | Meetup
CATEGORIES:Meetup
LOCATION:ML!PA Consulting GmbH\, Fredersdorfer Str. 10\, Berlin\, Deutschla
 nd
X-APPLE-STRUCTURED-LOCATION;VALUE=URI;X-ADDRESS=Fredersdorfer Str. 10\, Ber
 lin\, Deutschland;X-APPLE-RADIUS=100;X-TITLE=ML!PA Consulting GmbH:geo:0,0
END:VEVENT
BEGIN:VTIMEZONE
TZID:Europe/Berlin
X-LIC-LOCATION:Europe/Berlin
BEGIN:DAYLIGHT
DTSTART:20240331T030000
TZOFFSETFROM:+0100
TZOFFSETTO:+0200
TZNAME:CEST
END:DAYLIGHT
END:VTIMEZONE
END:VCALENDAR