BEGIN:VCALENDAR
VERSION:2.0
PRODID:-//wp-events-plugin.com//7.2.3.1//EN
TZID:Europe/Berlin
X-WR-TIMEZONE:Europe/Berlin
BEGIN:VEVENT
UID:0-1845@sharepointsocial.de
DTSTART;TZID=Europe/Berlin:20211005T080000
DTEND;TZID=Europe/Berlin:20211005T160000
DTSTAMP:20210813T102854Z
URL:https://sharepointsocial.de/events/teamssummit-2021-2/
SUMMARY:TeamsSummit 2021
DESCRIPTION:\nWillkommen bei der Teams Summit!\nUnser Ziel ist die Weiter
 bildung und Informationsaustausch zum Thema Microsoft Teams. Die Teams Sum
 mit bietet dafür eine Plattform mit Vorträgen von Experten. Wir wollen T
 eams Benutzer verbinden und Wissen teilen.\n\nVirtuelle Events haben den 
 Vorteil keine Reisekosten zu verursachen und können problemlos aus dem B
 üro wahrgenommen werden.\n\nMicrosoft Teams ist eine Plattform\, die Cha
 t\, Besprechungen\, Notizen und Anhänge kombiniert.\n\nLasst eurer Kreati
 vität freien Lauf\, und trefft gemeinsam Entscheidungen. So könnt ihr im
  Team Unglaubliches leisten. Teams bündelt Chats\, Besprechungen\, Dateif
 reigabe und Business-Anwendungen in einem gemeinsamen Arbeitsbereich.\n\nB
 esprechungen | Telefonieren | App-Integration und vieles mehr…\nTeams Su
 mmit\n\n 	Die Teilnahme ist 100% kostenlos\n 	Unsere TeamsSummit ist 1 T
 ag und findet komplett Online statt\n 	Für den deutschsprachigen Raum\
 n 	Fokus auf Microsoft Teams mit 5+ Stunden Expertenvorträgen\n 	Mögli
 chkeit zum Expertenaustausch\n\nKommentare aus unseren Umfragen\n\n 	Gute
  Moderation in angenehmer Atmosphäre\n 	Man erfährt über Erweiterungen\
 , mögliche noch unbekannte/falsch genutzte Funktionen\, etc. und kann das
  Tool besser nutzen\, mehr rausholen\, etc.\n 	Man verliert nicht den ganz
 en Tag auf einer Konferenz\, super!\n 	Die Mischung aus technischen (Info-
 ) Sessions und Vorträgen aus der Praxis war gut abgestimmt.\n 	unkomplizi
 erte Teilnahme mit Wahlmöglichkeit der Sessions\n\n\n\n\n
CATEGORIES:Konferenz,Meetup
LOCATION:https://www.m365-summits.de/event/teams-summit-05-oktober-2021
END:VEVENT
BEGIN:VTIMEZONE
TZID:Europe/Berlin
X-LIC-LOCATION:Europe/Berlin
BEGIN:DAYLIGHT
DTSTART:20210328T030000
TZOFFSETFROM:+0100
TZOFFSETTO:+0200
TZNAME:CEST
END:DAYLIGHT
END:VTIMEZONE
END:VCALENDAR