BEGIN:VCALENDAR
VERSION:2.0
PRODID:-//wp-events-plugin.com//7.2.3.1//EN
TZID:Europe/Berlin
X-WR-TIMEZONE:Europe/Berlin
BEGIN:VEVENT
UID:0-1724@sharepointsocial.de
DTSTART;TZID=Europe/Berlin:20210331T181500
DTEND;TZID=Europe/Berlin:20210331T201500
DTSTAMP:20210330T111919Z
URL:https://sharepointsocial.de/events/teams-usergroup-munich-save-the-dat
 e-event-20/
SUMMARY:Teams UG 20 - Ignite im Praxis Check und AI Special (10toGO)
DESCRIPTION:Hallo zusammen\,\n\nzu unserer 20. Teams Usergroup heißen wir 
 euch herzlich willkommen!\nDiesmal wollen wir uns\, wie so viele\, ebenfal
 ls mit der Ignite beschäftigen. Aber\, anders als die anderen\, nicht mit
  der Theorie\, sondern mit der Praxis:\n• Was wurde auf der Ignite für 
 diesen Monat angekündigt und was gibt es wirklich?\no Ein Praxis-Check\n
 • Welche spannenden Themen gibt es im Bereich Teams Communication und Co
 llaboration?\no Ein Überblick mit Highlights und offener\, interaktiver D
 iskussion\n\nLast but not least wagen wir einen Ausflug in ein anderes The
 ma: AI\nWir haben die Chance zwei Lösungen aus dem 10toGO Wettbewerb (ein
  Projekt der United Nation\, unterstützt von Volkswagen Gruppe und Micros
 oft) vorgestellt zu bekommen.\nThomas Poett hat diese Teams begleitet und 
 ermöglicht uns darüber einen einzigartigen\, direkten Zugang zu den Team
 s AI var (Europa) und Riverbank Initiatives (Ghana).\nBeide Teams stellen 
 Ihr Idee\, Ihren AI / Data Ansatz vor und erklären warum die Ziele der Un
 ited Nation wichtig sind erfüllt zu werden. Seid gespannt auf die beiden 
 Teams.\nDie Session werde aufgrund der Internationalität in English abgeh
 alten.\n\nUnd bevor wir es vergesse… Wir haben auch noch eine spannende 
 Ankündigung vor. ?\n\nAgenda\n18:15 – Welcome\n18:30 – Ignite Review 
 – Was geht schon jetzt? Ein Praxis Check\n19:00 – Pause\n19:15 – Ign
 ite Review – Teams Communication and Collaboration\n19:45 – Pause und 
 Austausch\n20:00 – Vorstellung 10toGo Wettbewerb\n\nWir freuen uns auf E
 ure Teilnahme und Regen Diskussionen.\n\nEuer Teams UG Team
CATEGORIES:Meetup
LOCATION:https://www.meetup.com/de-DE/Microsoft-Teams-Meetup-Munich/events/
 276269011/
END:VEVENT
BEGIN:VTIMEZONE
TZID:Europe/Berlin
X-LIC-LOCATION:Europe/Berlin
BEGIN:DAYLIGHT
DTSTART:20210328T030000
TZOFFSETFROM:+0100
TZOFFSETTO:+0200
TZNAME:CEST
END:DAYLIGHT
END:VTIMEZONE
END:VCALENDAR