BEGIN:VCALENDAR
VERSION:2.0
PRODID:-//wp-events-plugin.com//7.2.3.1//EN
TZID:Europe/Berlin
X-WR-TIMEZONE:Europe/Berlin
BEGIN:VEVENT
UID:0-1867@sharepointsocial.de
DTSTART;TZID=Europe/Berlin:20210929T180000
DTEND;TZID=Europe/Berlin:20210929T210000
DTSTAMP:20210920T173943Z
URL:https://sharepointsocial.de/events/teams-user-group-hh-meeting-septemb
 er-21/
SUMMARY:Teams User Group HH Meeting September 21
DESCRIPTION:Hallo liebe Teams UG\,\n\nfür unser nächstes Microsoft Teams 
 User Group Meetup haben wir uns ein besonderes Thema heraus gesucht:\nRepo
 rting\, Troubleshooting und Analytics.\nDer Abend wird sich also damit bes
 chäftigen\, welche Informationen ich aus dem Tenant\, aus dem Client und 
 mit Tools wie VIVA bekomme\, damit ein Problem gelöst oder die Arbeit ver
 bessert werden kann.\n\nAb 18 Uhr Come together\n18:15 Uhr – 18:20 Uhr W
 elcome\n18:20 Uhr – 18:35 Uhr What’s New\n18:30 Uhr – 19:15 Uhr Anal
 ytics\, CQD und Logs als Quelle für User Adoption und Troubleshooting (Mi
 chael Plettner\, Thorsten Pickhan)\n19:30 Uhr – 20 Uhr Insights mit VIVA
  und Teams Activities mit PowerBi (Adrian Ritter)\nAb 20 Uhr Offene Diskus
 sionen\n\nWir freuen uns auf eine rege Teilnahme und Diskussionen mit Euch
 !\nEuer Teams UG Team.
CATEGORIES:Meetup
LOCATION:https://www.meetup.com/de-DE/Skype-for-Business-User-Group-Hamburg
 /events/280900403/
END:VEVENT
BEGIN:VTIMEZONE
TZID:Europe/Berlin
X-LIC-LOCATION:Europe/Berlin
BEGIN:DAYLIGHT
DTSTART:20210328T030000
TZOFFSETFROM:+0100
TZOFFSETTO:+0200
TZNAME:CEST
END:DAYLIGHT
END:VTIMEZONE
END:VCALENDAR