BEGIN:VCALENDAR
VERSION:2.0
PRODID:-//wp-events-plugin.com//7.2.3.1//EN
TZID:Europe/Berlin
X-WR-TIMEZONE:Europe/Berlin
BEGIN:VEVENT
UID:0-1566@sharepointsocial.de
DTSTART;TZID=Europe/Berlin:20200930T181500
DTEND;TZID=Europe/Berlin:20200930T201500
DTSTAMP:20200819T124421Z
URL:https://sharepointsocial.de/events/teams-user-group-hh-meeting-septemb
 er-2020-ignite-recap/
SUMMARY:Teams User Group HH Meeting September 2020 - Ignite Recap
DESCRIPTION:Hallo zusammen\,\n\nIm September findet die alljährliche Micro
 soft Ignite statt. Eine Konferenz für alle Microsoft Technik begeisterten
  mit vielen Ankündigen und Neuerungen aus dem Microsoft Kosmos. Ob Office
  365\, Microsoft 365\, Azure\, zu allen Themen und Bereichen gibt es norma
 lerweise hunderte von Technical Deep Dive Sessions gemixt mit Community Ev
 ents\, Hersteller Expo Hall und Networking und direkter Austausch mit Micr
 osoft. Eigentlich sind es für die Besucher fünf Tage unter einer Käsegl
 ocke im Microsoft Universum. Dieses Jahr wird alles anders\, der Event fin
 det erstmals in seiner Geschichte als reiner Online Event statt.\nAm 22. b
 is 24.09. bietet Microsoft einen Online Event der Superklasse an: zwei Tag
 e lang Online Sessions\, Kurse\, Diskussionsrunden und vieles mehr.\nDie 1
 8. Ausgabe unseres MeetUp steht daher ganz im Zeichen der Ignite. Wir werd
 en für Euch die wichtigsten Themen und Ankündigungen zusammenfassen und 
 aufbereitet. Input und Ergänzungen Eurerseits sind gerne erwünscht.\nWir
  freuen uns auf einen bunten und spannenden Abend mit Euch.\n\nAgenda:\n18
 :10 Uhr – Welcome\n18:15 Uhr – Ignite Recap I\n19:00 Uhr – Pause\n19
 :15 Uhr – Ignite Recap II\n20:00 Uhr – Offener Austausch\n\nWir freuen
  uns auf Euch!\nDas Teams UG Team
CATEGORIES:Meetup
LOCATION:https://www.meetup.com/de-DE/Skype-for-Business-User-Group-Hamburg
 /events/272672189/
END:VEVENT
BEGIN:VTIMEZONE
TZID:Europe/Berlin
X-LIC-LOCATION:Europe/Berlin
BEGIN:DAYLIGHT
DTSTART:20200329T030000
TZOFFSETFROM:+0100
TZOFFSETTO:+0200
TZNAME:CEST
END:DAYLIGHT
END:VTIMEZONE
END:VCALENDAR