BEGIN:VCALENDAR
VERSION:2.0
PRODID:-//wp-events-plugin.com//7.2.3.1//EN
TZID:Europe/Berlin
X-WR-TIMEZONE:Europe/Berlin
BEGIN:VEVENT
UID:0-2382@sharepointsocial.de
DTSTART;TZID=Europe/Berlin:20240626T180000
DTEND;TZID=Europe/Berlin:20240626T220000
DTSTAMP:20240614T092335Z
URL:https://sharepointsocial.de/events/teams-ug-hamburg-36-ein-spannender-
 abend-rund-um-microsoft-teams/
SUMMARY:Teams UG Hamburg 36 - Ein spannender Abend rund um Microsoft Teams
DESCRIPTION:In dieser Ausgabe der Teams User Group Germany wollen wir mit E
 uch spannende Themen rund um Microsoft Teams diskutieren.\nAgenda (tbd):\n
 17:45 - Doors-open und warm-up\n18:10 - Willkommen\n18:15 - What's New M36
 5\n18:35 - wird noch gesucht\n19:15 - Pause\n19:30 - wird noch gesucht\n20
 :10 - Netzwerken\n21:00 - Ende der Agenda\, Beisammensein und Netzwerken r
 und um Microsoft Teams und angeschlossene Themenbereiche.\nUnser Meetup wi
 rd wieder an allen drei Standorten parallel und vor Ort stattfinden. Dies 
 ist die Veranstaltung für die in-person Teilnahme vor Ort in Hamburg\, M
 ühlendamm 61 \n\nAnmeldung: https://www.meetup.com/de-DE/skype-for-busin
 ess-user-group-hamburg/events/297253383/\n&nbsp\;
CATEGORIES:Meetup
LOCATION:https://www.meetup.com/de-DE/skype-for-business-user-group-hamburg
 /events/297253383/
END:VEVENT
BEGIN:VTIMEZONE
TZID:Europe/Berlin
X-LIC-LOCATION:Europe/Berlin
BEGIN:DAYLIGHT
DTSTART:20240331T030000
TZOFFSETFROM:+0100
TZOFFSETTO:+0200
TZNAME:CEST
END:DAYLIGHT
END:VTIMEZONE
END:VCALENDAR