BEGIN:VCALENDAR
VERSION:2.0
PRODID:-//wp-events-plugin.com//7.2.3.1//EN
TZID:Europe/Berlin
X-WR-TIMEZONE:Europe/Berlin
BEGIN:VEVENT
UID:0-2396@sharepointsocial.de
DTSTART;TZID=Europe/Berlin:20240828T180000
DTEND;TZID=Europe/Berlin:20240828T220000
DTSTAMP:20240716T054250Z
URL:https://sharepointsocial.de/events/teams-ug-37-hidden-champions-micros
 oft-lists-und-apps-in-teams/
SUMMARY:Teams UG 37 - Hidden Champions - Microsoft Lists und Apps in Teams
DESCRIPTION:In dieser Ausgabe der Teams User Group Germany wollen wir mit E
 uch spannende Themen rund um Microsoft Teams diskutieren.\nAgenda\n17:45 -
  Doors-open und warm-up\n18:10 - Willkommen\n18:15 - What's New M365\n18:3
 5 - Microsoft Lists - mehr als nur Tabellen\n19:15 - Pause\n19:30 - Nützl
 iche Apps in Teams: Approval\, Polls\nund mehr für eine bessere Zusammena
 rbeit\n20:10 - Netzwerken\n21:00 - Ende der Agenda\, Beisammensein und Net
 zwerken rund um Microsoft Teams und angeschlossene Themenbereiche.\nUnser 
 Meetup wird wieder an allen drei Standorten parallel und vor Ort stattfind
 en. Dies ist die Veranstaltung für die in-person Teilnahme vor Ort in Ham
 burg.\n&nbsp\;\n\nAnmeldung über : https://www.meetup.com/Skype-for-Busin
 ess-User-Group-Hamburg/events/297253387\n\n&nbsp\;
CATEGORIES:Meetup
LOCATION:Tuvela AG\, Arndtstr. 16\, Hamburg\, Deutschland
X-APPLE-STRUCTURED-LOCATION;VALUE=URI;X-ADDRESS=Arndtstr. 16\, Hamburg\, De
 utschland;X-APPLE-RADIUS=100;X-TITLE=Tuvela AG:geo:0,0
END:VEVENT
BEGIN:VTIMEZONE
TZID:Europe/Berlin
X-LIC-LOCATION:Europe/Berlin
BEGIN:DAYLIGHT
DTSTART:20240331T030000
TZOFFSETFROM:+0100
TZOFFSETTO:+0200
TZNAME:CEST
END:DAYLIGHT
END:VTIMEZONE
END:VCALENDAR