BEGIN:VCALENDAR
VERSION:2.0
PRODID:-//wp-events-plugin.com//7.2.3.1//EN
TZID:Europe/Berlin
X-WR-TIMEZONE:Europe/Berlin
BEGIN:VEVENT
UID:0-1901@sharepointsocial.de
DTSTART;TZID=Europe/Berlin:20211116T180000
DTEND;TZID=Europe/Berlin:20211116T193000
DTSTAMP:20211019T172926Z
URL:https://sharepointsocial.de/events/teams-meetup-muenchen-ug-goes-ignit
 e-watch-party/
SUMMARY:Teams Meetup München UG goes Ignite - Watch Party
DESCRIPTION:Hallo #BesteCommunity\,\ndieses Jahr wollen wir gemeinsam mit E
 uch die Ignite erleben.\nDa wir wieder ein virtuelles Event vor uns haben\
 , wollen wir gemeinsam in einer "Watch Party" eine besondere Session ansch
 auen und im Anschluss darüber diskutieren.\n\nWollt ihr die Party lieber 
 vor Ort oder online haben? - Gebt uns gern Feedback\, wir schauen dann\, w
 ie wir es umsetzen können.\n\nAls Session haben wir die "Rich\, secure co
 ntent and collaboration for hybrid work" Session von Jeff Teper ausgesucht
 . (Link zur Session: https://myignite.microsoft.com/sessions/94617731-e79
 4-4394-a3dc-3ce82024185d)\n\nWir freuen uns auf den regen Austausch.\nDeta
 ils (zum Beispiel Zugangslink) gibt es dann kurz vor dem Event.\n\nWir fre
 uen uns auf Euch!
CATEGORIES:Meetup
LOCATION:https://www.meetup.com/de-DE/Microsoft-Teams-Meetup-Munich/events/
 281525978
END:VEVENT
BEGIN:VTIMEZONE
TZID:Europe/Berlin
X-LIC-LOCATION:Europe/Berlin
BEGIN:STANDARD
DTSTART:20211031T020000
TZOFFSETFROM:+0200
TZOFFSETTO:+0100
TZNAME:CET
END:STANDARD
END:VTIMEZONE
END:VCALENDAR