BEGIN:VCALENDAR
VERSION:2.0
PRODID:-//wp-events-plugin.com//7.2.3.1//EN
TZID:Europe/Berlin
X-WR-TIMEZONE:Europe/Berlin
BEGIN:VEVENT
UID:0-2363@sharepointsocial.de
DTSTART;TZID=Europe/Berlin:20240523T180000
DTEND;TZID=Europe/Berlin:20240523T210000
DTSTAMP:20240502T091642Z
URL:https://sharepointsocial.de/events/team-zusammenarbeit-next-level-of-l
 ooping-und-collaboration-on-steroids/
SUMMARY:Team Zusammenarbeit - Next Level of Looping und Collaboration on St
 eroids
DESCRIPTION:Hallo ihr Lieben\,\nam 23.05. findet unser nächstes Meetup sta
 tt. In gewohnter Umgebung bieten wir euch Raum für viel Erfahrungsaustaus
 ch in entspannter Atmosphäre. Wir würden uns freuen euch wieder bei uns 
 begrüßen zu dürfen.\nNachdem uns im November die Bahn einen Strich durc
 h unsere Referentenplanung gezogen hat\, haben wir die Themen aus dem letz
 ten November noch einmal aufgegriffen und sowohl Christoph als auch Andrea
 s zu uns eingeladen.\nChristoph Twiehaus (MVP) ist Future Workplace Enthu
 siast &amp\; Digital Experience Evangelist und für seine roten Basecaps u
 nd roten Schuhe in der Community bekannt. Erfahrungen in einem deutschen V
 ersicherungskonzern\, bei einem mittelständischen IT-Beratungsunternehmen
  für Microsoft-Technologien und bei Microsoft selbst haben seinen berufli
 chen Werdegang geprägt. Die digitale Transformation und ihr Einfluss auf 
 Menschen und Unternehmen sind Christophs Steckenpferd. Der Mensch und sein
 e Bedürfnisse im Kontext der digitalen Transformation stehen für ihn neb
 en den täglich neuen technologischen Herausforderungen im Vordergrund. Da
 bei schwimmt er auch gerne mal gegen den Strom. Es gibt nicht DIE Lösung 
 für DEN Kunden. Alles muss und darf täglich in Frage gestellt werden\, u
 m ein optimales Ergebnis zu erzielen. Da jeder Kunde und jedes Projekt and
 ers ist\, kann man nicht alles 1:1 kopieren.\nAndreas Schlüter ist Freib
 erufler im Microsoft 365 Umfeld. Sein Fokus liegt auf einer sinnvollen und
  einfachen Integration von Technik in den Arbeitsfluss und damit einhergeh
 end eine detaillierte Analyse der Prozessketten. Das Ganz setze Andreas mi
 t viel Herz und Bock gewinnbringend für sich selbst und für Unternehmen 
 ein.\nNeben der technischen Expertise ist Andreas auch vielfach methodisch
  als Microsoft Certified Trainer und PROSCI Certified Change Practitioner 
 unterwegs.\nAgenda:\n18:00 - 18:30: Ankommen und Networking\n18:30 - 19:15
 : Christoph Twiehaus - Microsoft Loop aka Schleifenanwendungen – Next L
 evel Collaboration Microsoft Loop hat sich in den letzten Wochen und Mona
 ten rasant weiterentwickelt. Die Integration in OneNote ist ein wichtiger 
 Meilenstein\,weitere 3rd PartyApps wie z.B. Figma sind integriert worden u
 nd Microsoft hat die Möglichkeit zu Zusammenarbeit mit Externen versproch
 en. Wir werfen einen Blick auf den aktuellen Stand der Entwicklungen und b
 eschäftigen uns auch mit der Integration von Microsoft Copilot und den er
 sten Ansätzen zur Automation mit Power Automate in Loop.\n19:30 - 20:15: 
 Andreas Schlüter - Schleifenanwendungen treffen auf Adaptive Cards &amp\
 ; Automation Microsoft Loop auf der einen und Adaptive Cards auf der ande
 ren Seite spielen die Hauptrolle in der Reise auf dem Weg zum Zusammenspie
 l der beiden Hauptdarsteller. Microsoft Loop hat n der zweiten Jahreshälf
 te 2023 erste 3rd Party wie Github\, Trello und Jira integriert. Viel inte
 ressanter finden wir aber die Möglichkeit mit Adaptive Cards eigene Loop 
 Components für die Integration in Teams\, Outlook und Co. zu kreieren. Ty
 pische Prozeße wie Freigabe von Reisekosten\, Anpassung von Kreditlimits\
 , Kommentierungen und vieles mehr aus anderen Apps können auf Basis von A
 daptive Cards dynamisch und über App-Grenzen hinweg abgebildet und vor al
 lem integriert werden.\nAuf gehts zur Reise durchs Loopiverse\, Automation
  und Adaptive Cards.\nab 20:00: Chill &amp\; Grill: Networking auf unsere
 r Dachterrasse bei Würstchen und Bier (oder sonstigen Getränken)
CATEGORIES:Meetup
LOCATION:busitec GmbH\, Martin-Luther-King-Weg 8\, Münster\, 48155\, Deuts
 chland
GEO:51.988136;7.665996
X-APPLE-STRUCTURED-LOCATION;VALUE=URI;X-ADDRESS=Martin-Luther-King-Weg 8\, 
 Münster\, 48155\, Deutschland;X-APPLE-RADIUS=100;X-TITLE=busitec GmbH:geo
 :51.988136,7.665996
END:VEVENT
BEGIN:VTIMEZONE
TZID:Europe/Berlin
X-LIC-LOCATION:Europe/Berlin
BEGIN:DAYLIGHT
DTSTART:20240331T030000
TZOFFSETFROM:+0100
TZOFFSETTO:+0200
TZNAME:CEST
END:DAYLIGHT
END:VTIMEZONE
END:VCALENDAR