BEGIN:VCALENDAR
VERSION:2.0
PRODID:-//wp-events-plugin.com//7.2.3.1//EN
TZID:Europe/Berlin
X-WR-TIMEZONE:Europe/Berlin
BEGIN:VEVENT
UID:0-2383@sharepointsocial.de
DTSTART;TZID=Europe/Berlin;VALUE=DATE:20241119
DTEND;TZID=Europe/Berlin;VALUE=DATE:20241121
DTSTAMP:20240614T113400Z
URL:https://sharepointsocial.de/events/stuttgarter-wissensmanagement-tage-
 2024/
SUMMARY:Stuttgarter Wissensmanagement-Tage 2024
DESCRIPTION:\nDie Stuttgarter Wissensmanagement-Tage feiern Jubiläum: Am 
 19. &amp\; 20. November 2024 öffnet der Fachkongress rund um die Ressour
 ce Wissen bereits zum 20. Mal seine Pforten. Wie hat sich der Umgang mit D
 aten\, Informationen und Wissen seither verändert? Und welche neuen Mögl
 ichkeiten und Perspektiven bieten aktuelle Entwicklungen\, allen voran das
  derzeitige Top-Thema "Generative KI"?\nGetreu dem Motto "Von Praktikern -
  für Praktiker" berichten die Schnittstellen-Verantwortlichen aus den Fac
 habteilungen\, wie sie ihre Wissensressourcen nutzen und wo sie in puncto 
 Digitalisierung aktuell stehen.\nInfos und Anmeldung\n\n\n\n\n\n\nCALL FOR
  PAPERS\n\nIHR VORTRAG BEI DEN STUTTGARTER WISSENSMANAGEMENT-TAGEN\nAm 19.
  &amp\; 20. November 2024 finden die Wissensmanagement-Tage in Stuttgart b
 ereits zum 20. Mal statt - und bieten in der Stuttgarter Filderhalle eine 
 ideale Plattform\, um Erfahrungen rund um die Ressource Wissen mit anderen
  Wissensmanagern und Digitalisierungsexperten zu teilen.\nHaben Sie ein Wi
 ssensmanagement-Projekt erfolgreich abgeschlossen oder sind Sie gerade mit
 ten im digitalen Wandel - und wollen von Ihren Umsetzungserfahrungen beric
 hten? Teilen Sie Ihr Wissen und geben Sie es als Anregung an andere Untern
 ehmen weiter.  Ganz konkret suchen wir Best Practices\, Vorträge und Wor
 kshops zu den Themen:\n\n\n 	Next Practices: Anwenderbericht - Ihr Wissens
 management- bzw. Digitalisierungsprojekt\n 	GenAI &amp\; Co.: KI-gestützt
 e Lösungen im Unternehmenseinsatz\n 	Wissen (ver-)teilen: Collaboration\,
  Portale und Social Intranets\n 	Modern Workpalce mit Microsoft 365\, Shar
 ePoint &amp\; MS Teams\n 	Suche neu definiert: Enterprise Search\, I Knowl
 edge Graphen\, KI-basierte Suche\n 	Digital Learning\, On-&amp\; Offboardi
 ng: Wissen erwerben\, anwenden und konsequent weitergeben\n 	Wikis\, Mindm
 aps\, DMS &amp\; ECM: So dokumentieren Sie Ihr Wissen!\n 	Lösungen für W
 issensmanagement: Wissen sammeln\, nutzen\, entwickeln\, teilen\, bewerten
  und erhalten\n 	BPA\, DPA &amp\; RPA: Informationen intelligent verknüpf
 en\, Prozesse automatisieren\n 	Digital Mindset: Auf die richtige Einstell
 ung kommt es an!\n 	New (hybrid) Work: Organisations- und Führungsmodelle
  auf dem Prüfstand\n 	Changemanagement: Veränderungsprozesse erfolgreich
  gestalten\n 	Wissenssicherung: Der Mitarbeiter geht - sein Wissen bleibt\
 n\nReichen Sie Ihren Vorschlag bis zum 21. Juni 2024 ein.\nWeitere Infor
 mationen und den Referentenfragebogen finden Sie hier.\n\n\n&nbsp\;
CATEGORIES:Konferenz,Meetup
LOCATION:Filderhalle\, Bahnhofstraße 61\, Leinfelden-Echterdingen\, 70771\
 , Deutschland
X-APPLE-STRUCTURED-LOCATION;VALUE=URI;X-ADDRESS=Bahnhofstraße 61\, Leinfel
 den-Echterdingen\, 70771\, Deutschland;X-APPLE-RADIUS=100;X-TITLE=Filderha
 lle:geo:0,0
END:VEVENT
BEGIN:VTIMEZONE
TZID:Europe/Berlin
X-LIC-LOCATION:Europe/Berlin
BEGIN:STANDARD
DTSTART:20241027T020000
TZOFFSETFROM:+0200
TZOFFSETTO:+0100
TZNAME:CET
END:STANDARD
END:VTIMEZONE
END:VCALENDAR