BEGIN:VCALENDAR
VERSION:2.0
PRODID:-//wp-events-plugin.com//7.2.3.1//EN
TZID:Europe/Berlin
X-WR-TIMEZONE:Europe/Berlin
BEGIN:VEVENT
UID:0-1853@sharepointsocial.de
DTSTART;TZID=Europe/Berlin:20210910T113000
DTEND;TZID=Europe/Berlin:20210910T130000
DTSTAMP:20210906T084614Z
URL:https://sharepointsocial.de/events/stuttgarter-sharepoint-forum-micros
 oft-teams-nachhaltig-und-effizient-meistern/
SUMMARY:Stuttgarter SharePoint Forum Microsoft Teams nachhaltig und effizie
 nt meistern.
DESCRIPTION:\n\n\n\n\n\n\nWie schaffen Sie es\, nach dem Rollout von Micros
 oft Teams den Betrieb zu sichern\, die IT zu entlasten\, Benutzer- Flexibi
 lität sicherzustellen und trotzdem Security &amp\; Governance Regel aufre
 chtzuerhalten?\n\n\n\n\n\n\n\n\n\n\n\nStuttgarter SharePointForum Fridays 
 - kostenfreie Websession am 10.09. von 11.30 bis 13.00 Uhr\n\n\n\n\n\n\n\n
 \n\n​Die erste Herausforderung ist gemeistert\, Microsoft Teams ist im U
 nternehmen eingeführt und das Arbeiten aus dem Homeoffice ist möglich. D
 och wie geht es nun weiter?\n\n\n\n\n\n\n\n\n\n\n\n\n\n\nBald stellen sich
  neue Herausforderungen ein: Die Betriebskosten bzw. internen IT-Aufwände
  steigen durch die starke Nutzung der Plattform schnell an und müssen ges
 enkt oder niedrig gehalten werden. Die Benutzerakzeptanz für die Plattfor
 m sinkt\, da ein Wildwuchs und eine Unübersichtlichkeit der Teams-Räume 
 entsteht. Die Zusammenarbeit mit externen Benutzern wird durch die Plattfo
 rm vereinfacht\, aber dadurch entstehen auch Sicherheitsrisiken. Es muss s
 ichergestellt werden\, dass externe Benutzer nur so lange Zugriff erhalten
  wie notwendig.\n\n\n\n\n\n\n
CATEGORIES:Meetup,Webcast
LOCATION:https://www.stuttgarter-sharepointforum.de/it-compliance-governanc
 e-in-ms-teams-balance-zwischen-voller-freiheit-und-voller-kontrolle-der-be
 nutzer-in-microsoft-teams-mit-collabstack-am-01-10-2021/
END:VEVENT
BEGIN:VTIMEZONE
TZID:Europe/Berlin
X-LIC-LOCATION:Europe/Berlin
BEGIN:DAYLIGHT
DTSTART:20210328T030000
TZOFFSETFROM:+0100
TZOFFSETTO:+0200
TZNAME:CEST
END:DAYLIGHT
END:VTIMEZONE
END:VCALENDAR