BEGIN:VCALENDAR
VERSION:2.0
PRODID:-//wp-events-plugin.com//7.2.3.1//EN
TZID:Europe/Berlin
X-WR-TIMEZONE:Europe/Berlin
BEGIN:VEVENT
UID:0-1574@sharepointsocial.de
DTSTART;TZID=Europe/Berlin:20200924T180000
DTEND;TZID=Europe/Berlin:20200924T210000
DTSTAMP:20200821T125246Z
URL:https://sharepointsocial.de/events/spug-rhein-neckar-modern-workplace-
 meetup/
SUMMARY:SPUG Rhein Neckar - Modern Workplace Meetup
DESCRIPTION:Am Donnerstag\, 24. September 2020 ab 18:00 Uhr ist es wieder s
 oweit! Wir veranstalten das nächste Modern Workplace Meetup (nicht nur) f
 ür die Region Rhein-Neckar. Auch diesmal ist ein reines Online-Treffen ge
 plant.\nDetails zu den Themen folgen noch. Aktuell sind zwei Vorträge mit
  diesen Arbeitstiteln geplant:\n1. Microsoft 365 Einführung: Praxisberich
 t über eine Modern Workplace Einführung in "voller Breite".\n2. Governan
 ce für Teams und Office 365 Groups\nAnmeldungen sind ab jetzt hier auf Me
 etup möglich:\nhttps://www.meetup.com/de-DE/Rhein-Neckar-Modern-Workplace
 -Meetup/events/272574109\nHerzliche Grüße im Namen des Moderatoren-Teams
  sendet\nRené Fritsch\nPS: Hier außerdem schon einmal der Teilnahme-Link
 \, der am 24.9. ab 18:00 Uhr Einlass ins Online-Meeting gewährt:\nhttps:/
 /teams.microsoft.com/l/meetup-join/19%3ameeting_ZTRkNDM5ZmYtNjJmNi00OWI5LW
 JkYjUtMzEwY2QxMzUxYjBm%40thread.v2/0?context=%7b%22Tid%22%3a%2242ecfa8d-c1
 3f-4fd8-b061-c0786b8bb072%22%2c%22Oid%22%3a%22983a7761-18ad-44c9-b22e-83ee
 fcd29e8a%22%7d
CATEGORIES:Meetup
LOCATION:https://www.xing.com/communities/posts/sharepoint-user-group-metro
 polregion-rhein-neckar-1020004456
END:VEVENT
BEGIN:VTIMEZONE
TZID:Europe/Berlin
X-LIC-LOCATION:Europe/Berlin
BEGIN:DAYLIGHT
DTSTART:20200329T030000
TZOFFSETFROM:+0100
TZOFFSETTO:+0200
TZNAME:CEST
END:DAYLIGHT
END:VTIMEZONE
END:VCALENDAR