BEGIN:VCALENDAR
VERSION:2.0
PRODID:-//wp-events-plugin.com//7.2.3.1//EN
TZID:Europe/Berlin
X-WR-TIMEZONE:Europe/Berlin
BEGIN:VEVENT
UID:6-62@sharepointsocial.de
DTSTART;TZID=Europe/Berlin:20151216T150000
DTEND;TZID=Europe/Berlin:20151216T160000
DTSTAMP:20151130T141505Z
URL:https://sharepointsocial.de/events/so-verwaltet-bearingpoint-kundenpro
 jekte-mit-sharepoint-und-harmon-ie/
SUMMARY:So verwaltet BearingPoint Kundenprojekte mit SharePoint und harmon.
 ie
DESCRIPTION:\n\nBearingPoint bietet hervorragende Management- und Technolog
 ieberatung für Kunden aus den Bereichen Wirtschaft\, Finanzen und öffent
 liche Verwaltung. Bei der Zusammenarbeit verlassen sich die BearingPoint-B
 erater auf SharePoint und harmon.ie. In diesem Webinar erläutern die Bear
 ingPoint-Beraterin Berrit Englmayer und der SharePoint-Spezialist Michael 
 Greth die Entwicklung der Zusammenarbeit bei BearingPoint. Während des We
 binars werden Sie:\n\n	Mehr über die Notwendigkeit der Kundenverwaltung b
 ei BearingPoint erfahren\n	Hören\, wie BearingPoint SharePoint einsetzt\,
  um die Zusammenarbeit an Kundenprojekten zu optimieren\n	Sehen\, wie harm
 on.ie jeden Nutzer dabei unterstützt\, mit SharePoint zu arbeiten und so 
 die Geschäftsziele zu erreichen\n\nAnmeldung\n*** Link zur Anmeldung ***\
 nBiografien der Referenten:\nBerrit Englmayer hat einen Master in Business
  Administration und International Business erworben und ist seit 2009 bei 
 Bearing Point tätig. Zunächst war Sie als Senior Technology Analyst vera
 ntwortlich für den Aufbau eines europaweiten ServiceDesk für 3400 Bearin
 g Point Mitarbeiter. Derzeit ist Berrit Englmayer als Consultant im Bearin
 gPoint IT Team für den 2rd Level Enterprise Applications Support zuständ
 ig.\n\nMichael Greth arbeitet als freier Berater und Trainer für Microsof
 t SharePoint Technologien. Sein Schwerpunkt liegt dabei auf der Vermittlun
 g der SharePoint-Philosophie und der Konzeption von SharePoint-Projekten u
 nd SharePoint-Lösungen. Seit vielen Jahre engagiert Michael sich in Onlin
 e Communities und betreibt unter www.sharepointcommunity.de die größte d
 eutschsprachige Online Community für SharePoint-Anwender. Für sein Engag
 ement in OnlineCommunities wird Michael Greth seit 1998 von Microsoft mit 
 dem Titel Most Valuable Professional (MVP) ausgezeichnet. Seit Februar 200
 5 ist Michael Greth mit seinem SharePointPodcast.de auch regelmäßig per 
 Audio online.\n\n&nbsp\;\n\n&nbsp\;
CATEGORIES:Webcast
END:VEVENT
BEGIN:VTIMEZONE
TZID:Europe/Berlin
X-LIC-LOCATION:Europe/Berlin
BEGIN:STANDARD
DTSTART:20151025T020000
TZOFFSETFROM:+0200
TZOFFSETTO:+0100
TZNAME:CET
END:STANDARD
END:VTIMEZONE
END:VCALENDAR