BEGIN:VCALENDAR
VERSION:2.0
PRODID:-//wp-events-plugin.com//7.2.3.1//EN
TZID:Europe/Berlin
X-WR-TIMEZONE:Europe/Berlin
BEGIN:VEVENT
UID:0-1908@sharepointsocial.de
DTSTART;TZID=Europe/Berlin:20211026T100000
DTEND;TZID=Europe/Berlin:20211026T110000
DTSTAMP:20211025T132054Z
URL:https://sharepointsocial.de/events/so-sichern-sie-mit-veeam-loesungen-
 microsoft-365-kundendaten/
SUMMARY:So sichern Sie mit Veeam-Lösungen Microsoft 365 Kundendaten
DESCRIPTION:Ein Insight Webinar\n\nImmer mehr Hosting-Kunden nutzen Microso
 ft 365. Doch haben diese ihre Cloud-Daten unter Kontrolle\, und jederzeit 
 uneingeschränkten Zugriff auf alle benötigten Elemente? Diese Fragen wer
 den von Kunden meist mit „Natürlich!“ oder „Darum kümmert sich doc
 h Microsoft“ beantwortet.\n\nLetzteres stimmt nicht ganz. Am Ende sind 
 Ihre Kunden selbst verantwortlich\, dass ihre Daten kontrolliert und zugr
 iffsbereit sind. In unserem halbstündigen Webinar zusammen mit Alex Bern
 dt\, Inside Systems Engineer bei Veeam Software\, erklären wir die Micro
 soft 365 Rententionszeiten\, das „Shared Responsibility Model“ und wi
 e Sie Ihren Kunden mit einer smarten Veeam-Lösung langfristige und zuver
 lässige Microsoft 365 Datensicherung anbieten können.\n\nIm Anschluss b
 esteht die Möglichkeit\, individuelle Fragen zu diskutieren.\nMatthias Ko
 ch\nBusiness Development Manager Cloud Channel\, Insight\nAlex Berndt\nIns
 ide Systems Engineer\, Veeam
CATEGORIES:Webcast
LOCATION:https://www.insight.de/content-and-resources/2021/webinars/so-sich
 ern-sie-mit-veeam-losungen-m365-kundendaten
END:VEVENT
BEGIN:VTIMEZONE
TZID:Europe/Berlin
X-LIC-LOCATION:Europe/Berlin
BEGIN:DAYLIGHT
DTSTART:20210328T030000
TZOFFSETFROM:+0100
TZOFFSETTO:+0200
TZNAME:CEST
END:DAYLIGHT
END:VTIMEZONE
END:VCALENDAR