BEGIN:VCALENDAR
VERSION:2.0
PRODID:-//wp-events-plugin.com//7.2.3.1//EN
TZID:Europe/Berlin
X-WR-TIMEZONE:Europe/Berlin
BEGIN:VEVENT
UID:6-66@sharepointsocial.de
DTSTART;TZID=Europe/Berlin:20160223T090000
DTEND;TZID=Europe/Berlin:20160223T100000
DTSTAMP:20160126T124602Z
URL:https://sharepointsocial.de/events/smarte-prozesse-smarte-dokumente-we
 binar-mit-dox42-und-prologics/
SUMMARY:Smarte Prozesse\, smarte Dokumente -  Webinar mit dox42 und Prologi
 cs
DESCRIPTION:In Geschäftsprozessen müssen Entscheidungen getroffen und Dok
 umente generiert werden – am besten automatisch aber trotzdem hochwertig
  und individuell! Das können Verträge\, Angebote\, Berichte\, Gutachten\
 , Polizzen\, Bestätigungen oder Tickets sein\, einfach jedes Dokument in 
 jedem Prozess.\n\nIn diesem Webinar von DOX42 erleben Sie die Möglichkeit
 en von standardkonformer fachlicher Geschäftsprozessmodellierung\, benutz
 erzentrierter Workflows und intuitiver Dokument Automation im Zusammenspie
 l.\n\nRobert Hutter (PROLOGICS) und Christian Bauer (dox42) demonstrieren 
 live wie einfach Sie mit der Firestart BPM Suite und dox42 Geschäftsproze
 sse und Dokumente mit SAP und SharePoint integrieren.\n\nMaximale Flexibil
 ität\, maximale Individualität\, volle Power. Melden Sie sich jetzt an!\
 n\nAnmeldung: http://www.dox42.com/de/Events/Webinar-dox42-und-Prologics
CATEGORIES:Webcast
END:VEVENT
BEGIN:VTIMEZONE
TZID:Europe/Berlin
X-LIC-LOCATION:Europe/Berlin
BEGIN:STANDARD
DTSTART:20151025T020000
TZOFFSETFROM:+0200
TZOFFSETTO:+0100
TZNAME:CET
END:STANDARD
END:VTIMEZONE
END:VCALENDAR