BEGIN:VCALENDAR
VERSION:2.0
PRODID:-//wp-events-plugin.com//7.2.3.1//EN
TZID:Europe/Berlin
X-WR-TIMEZONE:Europe/Berlin
BEGIN:VEVENT
UID:6-70@sharepointsocial.de
DTSTART;TZID=Europe/Berlin:20160314T180000
DTEND;TZID=Europe/Berlin:20160314T210000
DTSTAMP:20160126T133851Z
URL:https://sharepointsocial.de/events/sharepoint-usergroup-in-leipzig-mae
 rz-2016/
SUMMARY:SharePoint User Group Leipzig März 2016
DESCRIPTION:Das dritte Treffen unserer Leipziger SharePoint UserGroup steht
  vor der Tür. Diesmal wird das Event jedoch an einem Montag (14.03.2016) 
 um 18:00 Uhr stattfinden.\n\nDie Lokalität wird auch dieses Mal der Schu
 lungsraum arvato Systems perdata sein.\nUnsere beiden Referenten werden fr
 euen sich\, über die folgenden Themen zu sprechen:\n\n	Kundenzufriedenhei
 t durch Lieferantenintegration - Supply Chain Management mit MS SharePoint
  (Thomas Wisgalla\, HL komm)\n	Anwenden der SharePoint Suche aus Sicht ein
 es Anwenders (Nico Thiemer\, Selbständiger Informationsarchitekt)\n\nÜbe
 r eure baldigen Teilnahmebestätigungen freuen wir uns.\nWir bitten um ve
 rbindliche Zu- und Absagen bis spätestens 10.03.2016 um 17Uhr.\n\nAnmeldu
 ng über XING\n\nVeranstaltungsort:\n\narvato Systems perdata GmbH\nMartin
 -Luther-Ring 7-9\n04109 Leipzig\n\n&nbsp\;\n\nEs wäre schön\, wenn ihr d
 en Termin weiterempfehlt und eurem Netzwerk mitteilt.\nVielen Dank dafür.
 \n\n&nbsp\;\n\nMit besten Grüßen\n\nMarkus Hiller und Karsten Pohnke
CATEGORIES:UserGroup
LOCATION:arvato Systems perdata GmbH\, Martin-Luther-Ring 7-9\, Leipzig\, 0
 4109 \, Deutschland
GEO:51.337379;12.370808799999963
X-APPLE-STRUCTURED-LOCATION;VALUE=URI;X-ADDRESS=Martin-Luther-Ring 7-9\, Le
 ipzig\, 04109 \, Deutschland;X-APPLE-RADIUS=100;X-TITLE=arvato Systems per
 data GmbH:geo:51.337379,12.370808799999963
END:VEVENT
BEGIN:VTIMEZONE
TZID:Europe/Berlin
X-LIC-LOCATION:Europe/Berlin
BEGIN:STANDARD
DTSTART:20151025T020000
TZOFFSETFROM:+0200
TZOFFSETTO:+0100
TZNAME:CET
END:STANDARD
END:VTIMEZONE
END:VCALENDAR