BEGIN:VCALENDAR
VERSION:2.0
PRODID:-//wp-events-plugin.com//7.2.3.1//EN
TZID:Europe/Berlin
X-WR-TIMEZONE:Europe/Berlin
BEGIN:VEVENT
UID:6-71@sharepointsocial.de
DTSTART;TZID=Europe/Berlin:20160307T173000
DTEND;TZID=Europe/Berlin:20160307T203000
DTSTAMP:20160127T150535Z
URL:https://sharepointsocial.de/events/sharepoint-user-group-dresden-maerz
 -2016/
SUMMARY:SharePoint User Group Dresden März 2016
DESCRIPTION:Wir freuen uns\, dass auf Anfrage von Nico Thiemer nun die Shar
 ePoint UserGroup nach langer Zeit mal wieder in die T-Systems Multimedia S
 olutions einladen kann.\n\nOrt: T-Systems Multimedia Solutions GmbH\, Des
 den\, Raum 001 (EG) – Böttger\n\nMit zwei Beiträgen zu aktuellen Theme
 n wird es sicher ein spannender Abend. Insbesondere konnten wir MVP Michae
 l Greth (der der hinter sharepointcommunity.de\, dem SharePoint Podcast un
 d vielem mehr steckt) zu seinem ersten Besuch der Dresdner UserGroup gewin
 nen.\nUnsere Themen:\n1.     „Office 365 und das Internet der Dinge
 "\, Michael Greth\, MVP\,  \n\nWie wird das Internet der Dinge und die
  Welt der Sensoren unseren Umgang mit IT verändern und was ist heute scho
 n möglich?  Zeit sich mit dem Thema zu beschäftigen. Im Vortrag gibt Mi
 cheal Greth einen Überblick über das Thema und zeigt anhand von praktisc
 hen Beispielen\, wie heute schon IoT und Office 365 verbunden werden könn
 en.\n\n2.    „Hybrid Szenarien SharePoint 2016 OnPremise und Office
  365”\, Alexander Döhling (Architekt)\, Dr. Claudia Eichler-Liebenow 
  (Consultant)\,  T-Systems MMS\,\n\nCloud-Services und somit O365 sind a
 uf dem Vormarsch und doch bleibt SharePoint On-Premise eine wichtige inter
 ne Business-Lösung für viele Unternehmen. Wie können die Vorteile beide
 r Welten miteinander in einer hybriden Lösung kombiniert werden? Es werde
 n nicht nur Folien gezückt\, sondern auch ein praktisches Beispiel zur Ko
 nfiguration gezeigt.\nAnmeldung\nWir freuen uns auf ein hoffentlich gut be
 suchtes UserGroup Treffen. Für die Planung und den Einlass am Empfang bit
 ten wir unbedingt um eine Anmeldung hier im Xing-Event.\n\nAlexander Döhl
 ing &amp\; Claudia Eichler-Liebenow und Nico Thiemer
CATEGORIES:UserGroup
LOCATION:T-Systems MMS\, Riesaer Str. 7\, Dresden\, 01129 \, Deutschland
GEO:51.0836541;13.723881799999958
X-APPLE-STRUCTURED-LOCATION;VALUE=URI;X-ADDRESS=Riesaer Str. 7\, Dresden\, 
 01129 \, Deutschland;X-APPLE-RADIUS=100;X-TITLE=T-Systems MMS:geo:51.08365
 41,13.723881799999958
END:VEVENT
BEGIN:VTIMEZONE
TZID:Europe/Berlin
X-LIC-LOCATION:Europe/Berlin
BEGIN:STANDARD
DTSTART:20151025T020000
TZOFFSETFROM:+0200
TZOFFSETTO:+0100
TZNAME:CET
END:STANDARD
END:VTIMEZONE
END:VCALENDAR