BEGIN:VCALENDAR
VERSION:2.0
PRODID:-//wp-events-plugin.com//7.2.3.1//EN
TZID:Europe/Berlin
X-WR-TIMEZONE:Europe/Berlin
BEGIN:VEVENT
UID:6-69@sharepointsocial.de
DTSTART;TZID=Europe/Berlin:20160308T180000
DTEND;TZID=Europe/Berlin:20160308T210000
DTSTAMP:20160126T125845Z
URL:https://sharepointsocial.de/events/sharepoint-user-group-chemnitz-maer
 z-2016/
SUMMARY:SharePoint User Group Chemnitz März 2016
DESCRIPTION:Am 08.03.2016 um 18:00 Uhr findet der erste Termin in 2016 der 
 SPUG Chemnitz statt. Das Thema wird „SharePoint Farmen planen\, aufsetze
 n und warten“ sein.\n\n\n	Arten von SharePoint server (application serve
 r\, web server\, search server\, etc.)\n	Arbeiten mit AutoSPInstaller\n	Sh
 arePoint Patching mit OctopusDeploy\n\n\nUnser Referent ist Herr Danny Lö
 ffler\, welcher über eine lange SharePoint Erfahrung verfügt. Der Vortra
 g ist sowohl für Anfänger als auch für erfahrene SharePoint Administrat
 oren interessant.\n\nUnser Gastgeber ist diesmal die\nSFZ Förderzentrum g
 GmbH\nFlemmingstr. 8c\n09116 Chemnitz\nH47\, 2. Etage\, Seminarraum\n\nSta
 rt der Veranstaltung ist 18:00 Uhr. Nach dem sicher interessanten Vortrag 
 gibt es noch die Möglichkeit einen kleinen Imbiss zu sich zu nehmen und s
 ich gegenseitig noch besser kennenzulernen. Die Veranstaltung ist natürli
 ch kostenfrei.\n\nAnmeldung über XING
CATEGORIES:UserGroup
LOCATION:SFZ Förderzentrum gGmbH\, Flemmingstr. 8c\, Chemnitz\, 09116 \, D
 eutschland
GEO:50.84217;12.877359999999953
X-APPLE-STRUCTURED-LOCATION;VALUE=URI;X-ADDRESS=Flemmingstr. 8c\, Chemnitz\
 , 09116 \, Deutschland;X-APPLE-RADIUS=100;X-TITLE=SFZ Förderzentrum gGmbH
 :geo:50.84217,12.877359999999953
END:VEVENT
BEGIN:VTIMEZONE
TZID:Europe/Berlin
X-LIC-LOCATION:Europe/Berlin
BEGIN:STANDARD
DTSTART:20151025T020000
TZOFFSETFROM:+0200
TZOFFSETTO:+0100
TZNAME:CET
END:STANDARD
END:VTIMEZONE
END:VCALENDAR