BEGIN:VCALENDAR
VERSION:2.0
PRODID:-//wp-events-plugin.com//7.2.3.1//EN
TZID:Europe/Berlin
X-WR-TIMEZONE:Europe/Berlin
BEGIN:VEVENT
UID:6-68@sharepointsocial.de
DTSTART;TZID=Europe/Berlin:20160204T183000
DTEND;TZID=Europe/Berlin:20160204T210000
DTSTAMP:20160126T125546Z
URL:https://sharepointsocial.de/events/sharepoint-user-group-bremenoldenbu
 rg-februar-2016/
SUMMARY:SharePoint User Group Bremen/Oldenburg Februar 2016
DESCRIPTION:„Anforderungsmanagement – mit einer gesunden Mischung aus a
 gilen und klassischen Methoden Komplexität reduzieren und so SharePoint-P
 rojekte einfacher gestalten“.\n\nAuf ins neue Jahr startet die SharePoin
 t UserGroup Bremen/Oldenburg mit einem praxisnahen Thema\, mit dem sich in
 sbesondere Projektmanager und Fachabteilungen bei jeder SharePoint Umgebun
 g immer wieder konfrontiert sehen. Denn SharePoint-Projekte verlaufen in d
 er Regel sehr dynamisch\, Veränderungen bei den fachlichen Anforderungen 
 lassen sich selten vermeiden.\n\nIn der Theorie gibt es unzählige Werkzeu
 ge und Methoden zur Filterung\, Priorisierung und Präzisierung der Anford
 erungen\, die als Unterstützung zur Hilfe genommen werden sollten. Die Re
 alität sieht jedoch oftmals etwas anders aus – kostenaufwändige Projek
 te bei denen an den Erfordernisse vorbei realisiert wird\, IT-Ressourcen d
 ie mit strategisch weniger wichtigen Vorhaben ausgelastet werden und zu ho
 he Detailierungsgrade auf falschen Ebenen.\n\nWie die 360 Grad-Disziplin d
 es Anforderungsmanagements gemeistert werden kann und welche grundsätzlic
 hen Mechanismen den SharePoint Projektalltag wesentlich angenehmer gestalt
 en\, wird Dietmar Heijenga von der HEC uns an diesem Abend näherbringen.\
 n\nDatum 4.2.2016 18:30 Uhr in der Lilie\, Hemmstr. 159\, 28215 Bremen
 \n\nAnmeldung über XING\n\nViele Grüße! Das Moderatoren Team.\nDietmar 
 Heijenga (HEC GmbH)\, Daniel Wessels (Deroso Solutions GmbH)\, Thomas Koch
  (BREKOM GmbH) &amp\; Renke Holert (holert.com)
CATEGORIES:UserGroup
LOCATION:Lilie\, Hemmstr. 159\, Bremen\, 28215\, Deutschland
GEO:53.093706;8.805696699999999
X-APPLE-STRUCTURED-LOCATION;VALUE=URI;X-ADDRESS=Hemmstr. 159\, Bremen\, 282
 15\, Deutschland;X-APPLE-RADIUS=100;X-TITLE=Lilie:geo:53.093706,8.80569669
 9999999
END:VEVENT
BEGIN:VTIMEZONE
TZID:Europe/Berlin
X-LIC-LOCATION:Europe/Berlin
BEGIN:STANDARD
DTSTART:20151025T020000
TZOFFSETFROM:+0200
TZOFFSETTO:+0100
TZNAME:CET
END:STANDARD
END:VTIMEZONE
END:VCALENDAR