BEGIN:VCALENDAR
VERSION:2.0
PRODID:-//wp-events-plugin.com//7.2.3.1//EN
TZID:Europe/Berlin
X-WR-TIMEZONE:Europe/Berlin
BEGIN:VEVENT
UID:6-94@sharepointsocial.de
DTSTART;TZID=Europe/Berlin:20160223T180000
DTEND;TZID=Europe/Berlin:20160223T210000
DTSTAMP:20160210T180154Z
URL:https://sharepointsocial.de/events/sharepoint-user-group-bodenseeregio
 n-februar-2016/
SUMMARY:SharePoint User Group Bodenseeregion Februar 2016
DESCRIPTION:Beim Februar Treffen der SharePoint UserGroup Friedrichshafen /
  Bodenseeregion erwartet die Teilnehmer wieder ein sehr interessanter Vort
 rag.\nAgenda\n"Search Display Templates - Search Customizing\, eine Einfü
 hrung"\n\nWie werden Suchergebnisse ansprechend präsentiert? Ein Überbli
 ck über die Erstellung eigener Search Display Templates. Vom Anlegen der 
 Managed Properties\, ihrer Bedeutung und ihren Eigenschaften bis zur Verwe
 ndung im Template. Ein Überblick über die Arten der verschiedenen Templa
 tes\, wie Control\, Item und Hoover Templates. Der Schwerpunkt wird auf da
 s Erstellen der Display Templates unter Zuhilfenahme von JavaScript gelegt
 .\n\nSchon im voraus herzlichen Dank an den vortragenden Martin Kurz (evoc
 om Informationssysteme GmbH) !\n\nIm Anschluss - wie immer - gibt es Gele
 genheit zum Erfahrungsaustausch in lockerer Runde und das Bechtle IT Syste
 mhaus Friedrichshafen spendiert uns wieder eine leckere Riesenbrezel.\nAnm
 eldung\nAnmeldung über die XING Gruppe
CATEGORIES:UserGroup
LOCATION:Bechtle IT Systemhaus Friedrichshafen\, Albert-Maier-Strasse 21\, 
 Friedrichshafen\, 88045\, Deutschland
GEO:47.67606;9.474749999999972
X-APPLE-STRUCTURED-LOCATION;VALUE=URI;X-ADDRESS=Albert-Maier-Strasse 21\, F
 riedrichshafen\, 88045\, Deutschland;X-APPLE-RADIUS=100;X-TITLE=Bechtle IT
  Systemhaus Friedrichshafen:geo:47.67606,9.474749999999972
END:VEVENT
BEGIN:VTIMEZONE
TZID:Europe/Berlin
X-LIC-LOCATION:Europe/Berlin
BEGIN:STANDARD
DTSTART:20151025T020000
TZOFFSETFROM:+0200
TZOFFSETTO:+0100
TZNAME:CET
END:STANDARD
END:VTIMEZONE
END:VCALENDAR