BEGIN:VCALENDAR
VERSION:2.0
PRODID:-//wp-events-plugin.com//7.2.3.1//EN
TZID:Europe/Berlin
X-WR-TIMEZONE:Europe/Berlin
BEGIN:VEVENT
UID:0-1726@sharepointsocial.de
DTSTART;TZID=Europe/Berlin:20210529T083000
DTEND;TZID=Europe/Berlin:20210529T180000
DTSTAMP:20210525T112338Z
URL:https://sharepointsocial.de/events/sharepoint-saturday-cologne-2021/
SUMMARY:SharePoint Saturday Cologne 2021
DESCRIPTION:The Office 365 Community is again organizing the SharePoint Sat
 urday Cologne 2021. It is an free event from the community for the communi
 ty and is the highlight of the year in Cologne.\n\nThis year the event wil
 l be held fully virtual.\n\n&nbsp\;\n\nSchedule: https://www.spsevents.org
 /event/11680/schedule/
CATEGORIES:Meetup
LOCATION:https://www.spsevents.org/event/11680/
END:VEVENT
BEGIN:VTIMEZONE
TZID:Europe/Berlin
X-LIC-LOCATION:Europe/Berlin
BEGIN:DAYLIGHT
DTSTART:20210328T030000
TZOFFSETFROM:+0100
TZOFFSETTO:+0200
TZNAME:CEST
END:DAYLIGHT
END:VTIMEZONE
END:VCALENDAR