BEGIN:VCALENDAR
VERSION:2.0
PRODID:-//wp-events-plugin.com//7.2.3.1//EN
TZID:Europe/Berlin
X-WR-TIMEZONE:Europe/Berlin
BEGIN:VEVENT
UID:0-2366@sharepointsocial.de
DTSTART;TZID=Europe/Berlin:20240606T190000
DTEND;TZID=Europe/Berlin:20240606T210000
DTSTAMP:20240502T092259Z
URL:https://sharepointsocial.de/events/sharepoint-premium-syntex-dokumente
 nmanagement-und-datenklassifikation/
SUMMARY:SharePoint Premium & Syntex - Dokumentenmanagement und Datenklassif
 ikation
DESCRIPTION:Partner Meetup mit dem Security und Compliance Meetup!\nhttps:/
 /www.meetup.com/security-und-compliance-community-germany/events/300288434
 /\n///////////////////////////////////\nWir freuen uns auf Oliver Sahlmann
  (Microsoft Deutschland\, Compliance) mit einem tollen Vortrag und anschli
 eßender Q&amp\;A zum Thema SharePoint Premium und Syntex.\nThemen &amp\; 
 Produkte\n\n\n 	Microsoft 365\n 	SharePoint Online / OneDrive\n 	Microsoft
  Purview\n 	Syntex\n 	Data Governance\n 	Data Security\n 	\n\nWir sprechen
  über den Einsatz\, die Koste
CATEGORIES:Meetup
LOCATION:https://www.meetup.com/office-365-meetup/events/300288543/
END:VEVENT
BEGIN:VTIMEZONE
TZID:Europe/Berlin
X-LIC-LOCATION:Europe/Berlin
BEGIN:DAYLIGHT
DTSTART:20240331T030000
TZOFFSETFROM:+0100
TZOFFSETTO:+0200
TZNAME:CEST
END:DAYLIGHT
END:VTIMEZONE
END:VCALENDAR