BEGIN:VCALENDAR
VERSION:2.0
PRODID:-//wp-events-plugin.com//7.2.3.1//EN
TZID:Europe/Berlin
X-WR-TIMEZONE:Europe/Berlin
BEGIN:VEVENT
UID:6-86@sharepointsocial.de
DTSTART;TZID=Europe/Berlin:20160316T160000
DTEND;TZID=Europe/Berlin:20160316T180000
DTSTAMP:20160204T100940Z
URL:https://sharepointsocial.de/events/sharepoint-office-365-community-zen
 tralschweiz/
SUMMARY:SharePoint & Office 365 Community Zentralschweiz
DESCRIPTION:Externe und interne Referenten gehen in ihren Referaten auf akt
 uelle Themen aus dem SharePoint- und Cloud-Umfeld ein. Die Vorträge sin
 d sehr vielseitig und behandeln unterschiedliche Themengebiete. Ob technol
 ogische Neuheiten\, Trends\, Live-Demonstrationen\, Praxisbeispiele oder a
 uch gesetzliche Rahmenbedingungen - die SharePoint &amp\; Cloud Communit
 y bringt Sie auf dem neusten Stand. Organisiert von der IOZ AG.\nTerminb
 locker - Infos/Agenda folgt\nWebsite der SharePoint &amp\; Office365 Commu
 nity in Sursee (CH)\nDie SharePoint &amp\; Office 365 Community findet jew
 eils um 16h00 in der Aula der Stadtschule St. Georg in Sursee statt (Ände
 rungen vorbehalten). 
CATEGORIES:UserGroup
LOCATION:IoZ AG\, Bahnhofstrasse 6B\, Sursee\, 6210\, Schweiz
GEO:47.17264040000001;8.10735299999999
X-APPLE-STRUCTURED-LOCATION;VALUE=URI;X-ADDRESS=Bahnhofstrasse 6B\, Sursee\
 , 6210\, Schweiz;X-APPLE-RADIUS=100;X-TITLE=IoZ AG:geo:47.17264040000001,8
 .10735299999999
END:VEVENT
BEGIN:VTIMEZONE
TZID:Europe/Berlin
X-LIC-LOCATION:Europe/Berlin
BEGIN:STANDARD
DTSTART:20151025T020000
TZOFFSETFROM:+0200
TZOFFSETTO:+0100
TZNAME:CET
END:STANDARD
END:VTIMEZONE
END:VCALENDAR