BEGIN:VCALENDAR
VERSION:2.0
PRODID:-//wp-events-plugin.com//7.2.3.1//EN
TZID:Europe/Berlin
X-WR-TIMEZONE:Europe/Berlin
BEGIN:VEVENT
UID:0-1081@sharepointsocial.de
DTSTART;TZID=Europe/Berlin:20190228T170000
DTEND;TZID=Europe/Berlin:20190228T190000
DTSTAMP:20190206T123831Z
URL:https://sharepointsocial.de/events/sharepoint-office-365-community-mee
 tup-1-2019/
SUMMARY:SharePoint & Office 365 Community Meetup 1/2019
DESCRIPTION:Der nächste SharePoint &amp\; Office 365 Community Schweiz Eve
 nt findet am 28. September von 17.00 – 19.00 Uhr bei der isolutions AG i
 n Bern statt!\n\nSession 1: Office 365 Groups Governance\nMarton Nagy\, So
 lution Architect SharePoint\, Die Mobiliar\n- Office 365 Groups: Definitio
 n und Artefakte\n- Wieso brauchen wir eine Governance?\n- Was bietet Micro
 soft OOTB an? Welche Wege gibt es?\n- Ein kleines Live Demo auf meinem pri
 vaten Tenant\n\nSession 2: Wird in Kürze bekanntgegeben.\n\nAbgerundet wi
 rd der Event mit Getränken\, Snacks und spannenden Gesprächen.\n\nKönnt
 e das auch für deine Arbeitskollegen interessant sein? Wir freuen uns üb
 er (spontane) Gäste!\n\n[su_button url="https://www.meetup.com/de-DE/Shar
 ePointCommunitySchweiz/events/258556281/" size="5"]Anmeldung hier über Me
 etup[/su_button]
CATEGORIES:Meetup
LOCATION:isolutions ag\, Schanzenstrasse 4c\, Bern\, 3008 \, Schweiz
GEO:46.9481563;7.437449499999957
X-APPLE-STRUCTURED-LOCATION;VALUE=URI;X-ADDRESS=Schanzenstrasse 4c\, Bern\,
  3008 \, Schweiz;X-APPLE-RADIUS=100;X-TITLE=isolutions ag:geo:46.9481563,7
 .437449499999957
END:VEVENT
BEGIN:VTIMEZONE
TZID:Europe/Berlin
X-LIC-LOCATION:Europe/Berlin
BEGIN:STANDARD
DTSTART:20181028T020000
TZOFFSETFROM:+0200
TZOFFSETTO:+0100
TZNAME:CET
END:STANDARD
END:VTIMEZONE
END:VCALENDAR