BEGIN:VCALENDAR
VERSION:2.0
PRODID:-//wp-events-plugin.com//7.2.3.1//EN
TZID:Europe/Berlin
X-WR-TIMEZONE:Europe/Berlin
BEGIN:VEVENT
UID:6-43@sharepointsocial.de
DTSTART;TZID=Europe/Berlin:20150623T083000
DTEND;TZID=Europe/Berlin:20150623T140000
DTSTAMP:20150520T181156Z
URL:https://sharepointsocial.de/events/sharepoint-lounge-exzellenz-in-team
 arbeit/
SUMMARY:SharePoint Lounge Exzellenz in  Teamarbeit
DESCRIPTION:SHAREPOINT LOUNGE -  Eine Event-Reihe der MindBusiness GmbH\nS
 harePoint ist hervorragend geeignet für die ganzheitliche Darstellung kom
 plexer Geschäftsprozesse. Darüber hinaus gibt es viele weitere Einsatzm
 öglichkeiten in Unternehmen für SharePoint. Mit SharePoint lassen sich P
 rozesse gestalten und analysieren\, visuell darstellen und kontrollieren. 
 Der Aufbau von individuellen Seiten mit Bibliotheken ist Basis für ein op
 timales Content Management. Damit ermöglicht das intelligente IT-System v
 on Microsoft eine aktive\, erfolgreiche Unternehmenssteuerung. Und nicht 
 nur in der OnPremise-\, sondern auch in der Cloud-Version oder sogar in 
 einer hybriden Variante\, die beide Techniken vereint. Dabei spielt es 
 keine Rolle\, mit welchem Endgerät sie auf die in SharePoint bereitgestel
 lten Daten zugreifen.\nTHEMEN IN DER SHAREPOINT LOUNGE\n\n	\nDurch Microso
 ft SharePoint die Zukunft der Teamarbeit gestalten. Lassen Sie sich in Liv
 e-Demos von Beispielen aus der Praxis inspirieren.\n	Stellen Sie wichtige 
 Kennzahlen unterschiedlicher Herkunft verständlich und übersichtlich in 
  einem modernenSharePoint-Dashboard dar.\n	Optimieren Sie Ihr Dokumentenm
 anagement mit Microsoft SharePoint und informieren Sie sich über die Mög
 lichkeiten.\n	Sie sind verantwortlich für die IT und möchten den Einsatz
  einer OnPremise-\, Cloud- oder Hybrid-Lösung kosten- und nutzenorientier
 t analysieren.\n	Bleiben Sie innovativ. Werden Sie zum SharePoint-Verstehe
 r.\n	Erleben Sie\, ab wann sich Microsoft Office 365 wirklich rechnet.\n	T
 auschen Sie sich im Praxis-Talk mit anderen SharePoint-Experten aus.\n	Die
  Teilnahme ist für Sie kostenlos.\n\nSharePoint Lounge: Komplexe Technolo
 gie überschaubar gemacht mit Live-Demo und Praxis-Talk.\nZIELGRUPPE\nDies
 e Veranstaltung ist für alle\, die sich mit SharePoint auseinandersetzen
  und dessen Potentiale noch optimaler ausschöpfen wollen sowie für neugi
 erige Projektleiter\, IT-Verantwortliche und interessierte Fachabteilungen
 .\nVERANSTALTUNGSORT\nDie SharePoint Lounge findet in München statt\, der
  genaue Veranstaltungsort wird noch bekannt gegeben.\nANMELDUNG\n[importan
 t]Anmeldung zur kostenfreien Veranstaltung über die MindBusiness Website[
 /important]
CATEGORIES:Partnerevent
END:VEVENT
BEGIN:VTIMEZONE
TZID:Europe/Berlin
X-LIC-LOCATION:Europe/Berlin
BEGIN:DAYLIGHT
DTSTART:20150329T030000
TZOFFSETFROM:+0100
TZOFFSETTO:+0200
TZNAME:CEST
END:DAYLIGHT
END:VTIMEZONE
END:VCALENDAR