BEGIN:VCALENDAR
VERSION:2.0
PRODID:-//wp-events-plugin.com//7.2.3.1//EN
TZID:Europe/Berlin
X-WR-TIMEZONE:Europe/Berlin
BEGIN:VEVENT
UID:6-38@sharepointsocial.de
DTSTART;TZID=Europe/Berlin:20150415T083000
DTEND;TZID=Europe/Berlin:20150415T140000
DTSTAMP:20150407T114647Z
URL:https://sharepointsocial.de/events/sharepoint-lounge-by-mindbusiness-2
 /
SUMMARY:SharePoint Lounge by MindBusiness
DESCRIPTION:SharePoint Lounge: Komplexe Technologie überschaubar gemacht m
 it Live-Demo und Praxis-Talk.\nSharePoint ist hervorragend geeignet für d
 ie ganzheitliche Darstellung komplexer Geschäftsprozesse. Darüber hinaus
  gibt es viele weitere Einsatzmöglichkeiten in Unternehmen für SharePoin
 t. Mit SharePoint lassen sich Prozesse gestalten und analysieren\, visuell
  darstellen und kontrollieren. Der Aufbau von individuellen Seiten mit Bib
 liotheken ist Basis für ein optimales Content Management. Damit ermöglic
 ht das intelligente IT-System von Microsoft eine aktive\, erfolgreiche Unt
 ernehmenssteuerung. Und nicht nur in der OnPremise-\, sondern auch in de
 r Cloud-Version oder sogar in einer hybriden Variante\, die beide Techni
 ken vereint. Dabei spielt es keine Rolle\, mit welchem Endgerät sie auf
  die in SharePoint bereitgestellten Daten zugreifen.\nThemen in der ShareP
 oint Lounge\n[su_list icon="icon: dot-circle-o"]\n\n	Durch Microsoft Share
 Point die Zukunft der Teamarbeit gestalten. Lassen Sie sich in Live-Demos 
 von Beispielen aus der Praxis inspirieren.\n	Stellen Sie wichtige Kennzahl
 en unterschiedlicher Herkunft verständlich und übersichtlich in  einem 
 modernenSharePoint-Dashboard dar.\n	Optimieren Sie Ihr Dokumentenmanagemen
 t mit Microsoft SharePoint und informieren Sie sich über die Möglichkeit
 en.\n	Sie sind verantwortlich für die IT und möchten den Einsatz einer O
 nPremise-\, Cloud- oder Hybrid-Lösung kosten- und nutzenorientiert analys
 ieren.\n	Bleiben Sie innovativ. Werden Sie zum SharePoint-Versteher.\n	Erl
 eben Sie\, ab wann sich Microsoft Office 365 wirklich rechnet.\n	Tauschen 
 Sie sich im Praxis-Talk mit anderen SharePoint-Experten aus.\n	Die Teilnah
 me ist für Sie kostenlos.\n\n[/su_list]\nZielgruppe\nDiese Veranstaltung
  ist für alle\, die sich mit SharePoint auseinandersetzen und dessen Pote
 ntiale noch optimaler ausschöpfen wollen sowie für neugierige Projektlei
 ter\, IT-Verantwortliche und interessierte Fachabteilungen.\nAnmeldung\n[s
 u_note note_color="#ebfa87"]Kostenfrei anmeldenn[/su_note]
CATEGORIES:Partnerevent
LOCATION:DORMERO Hotel\, Plieninger Straße 100 \, Stuttgart\, 70567\, Deut
 schland
GEO:48.7223941;9.161545899999965
X-APPLE-STRUCTURED-LOCATION;VALUE=URI;X-ADDRESS=Plieninger Straße 100 \, S
 tuttgart\, 70567\, Deutschland;X-APPLE-RADIUS=100;X-TITLE=DORMERO Hotel:ge
 o:48.7223941,9.161545899999965
END:VEVENT
BEGIN:VTIMEZONE
TZID:Europe/Berlin
X-LIC-LOCATION:Europe/Berlin
BEGIN:DAYLIGHT
DTSTART:20150329T030000
TZOFFSETFROM:+0100
TZOFFSETTO:+0200
TZNAME:CEST
END:DAYLIGHT
END:VTIMEZONE
END:VCALENDAR