BEGIN:VCALENDAR
VERSION:2.0
PRODID:-//wp-events-plugin.com//7.2.3.1//EN
TZID:Europe/Berlin
X-WR-TIMEZONE:Europe/Berlin
BEGIN:VEVENT
UID:6-556@sharepointsocial.de
DTSTART;TZID=Europe/Berlin:20170918T130000
DTEND;TZID=Europe/Berlin:20170918T140000
DTSTAMP:20170914T082748Z
URL:https://sharepointsocial.de/events/sharepoint-hr-prozesse-im-digitalen
 -zeitalter-live-erleben/
SUMMARY:SharePoint HR-Prozesse im digitalen Zeitalter live erleben
DESCRIPTION:Ein Henrichsen Webinar\nKeine Lust mehr den ganzen Tag mit der 
 Suche und Organisation von HR Dokumenten Ihrer Mitarbeiter zu verbringen?\
 nSie wünschen sich mehr Zeit für die Bewältigung des Tagesgeschäfts un
 d der Anfragen Ihrer Mitarbeiter?\nMachen Sie den ersten Schritt zu einem 
 modernen Personalmanagement-System und gestalten Sie Ihre tägliche Arbeit
  so effizient wie möglich\, mit einer digitalen Personalakte von HENRICHS
 EN.\nInklusive einer integrierten Zeugniserstellung\, sowie smarten und mo
 bilen Freigabe-Prozessen\, z.B. im Onboarding.\nMit der digitalen Personal
 akte erhalten Sie und die jeweiligen Führungskräfte jederzeit Zugriff au
 f alle Dokumente von A wie Arbeitsvertrag bis Z wie Zielvereinbarungen.\nS
 eien Sie einen Schritt voraus!\nSie managen jeden einzelnen Mitarbeiter vo
 llständig digital\, von der Personalnummer bis hin zu abrechnungsrelevant
 en Informationen und finden diese sofort\, überall und per Knopfdruck.\nI
 hre Vorteile auf einen Blick\n\n\n 	Zentraler und sicherer Zugriff auf all
 e Personalinformationen\n 	Vermeidung unnötiger Kosten für Ablage\, Ausd
 rucke und Kopien\n 	Sofortige Auskunftsfähigkeit gegenüber Mitarbeitern 
 und Führungskräften\n\nErfahren Sie in unserem Webinar\, wie moderne HR-
 Arbeit aussehen kann.\n\n\n 	Live-Präsentation der HR-Solutions:\n 	Digit
 alen Personalakte in SharePoint - die Informationsquelle zum Mitarbeiter\n
  	Integration von MS Office und Outlook\n 	Vorlagen- und Fristenverwaltung
 \, Vollständigkeitsprüfung\n 	Mit Workflow zum perfekten Onboarding-Proz
 ess\n 	Möglichkeiten der SAP-integrierten Dokumentenerzeugung am Beispiel
  Mitarbeiterzeugnis\n\nAnmeldung
CATEGORIES:Webcast
END:VEVENT
BEGIN:VTIMEZONE
TZID:Europe/Berlin
X-LIC-LOCATION:Europe/Berlin
BEGIN:DAYLIGHT
DTSTART:20170326T030000
TZOFFSETFROM:+0100
TZOFFSETTO:+0200
TZNAME:CEST
END:DAYLIGHT
END:VTIMEZONE
END:VCALENDAR