BEGIN:VCALENDAR
VERSION:2.0
PRODID:-//wp-events-plugin.com//7.2.3.1//EN
TZID:Europe/Berlin
X-WR-TIMEZONE:Europe/Berlin
BEGIN:VEVENT
UID:6-59@sharepointsocial.de
DTSTART;TZID=Europe/Berlin:20151202T090000
DTEND;TZID=Europe/Berlin:20151203T180000
DTSTAMP:20151022T144741Z
URL:https://sharepointsocial.de/events/sharepoint-days-2015/
SUMMARY:SharePoint Days 2015
DESCRIPTION:Traditionell zum Ende des Jahres bieten die SharePoint Days noc
 hmal Gelegenheit\, Erfahrungen rund um Office 365 und SharePoint mit Exper
 ten\, Partnern und Anwendern auszutauschen und einen Blick in die Zukunft 
 zu werfen. Die  SharePoint Days 2015 vom 01. bis 04. Dezember 2015 in M
 ünchen stehen ganz im Zeichen der Betaversion von SharePoint 2016.\nKonz
 eption 2015\nIm Gegensatz zu den vergangenen Jahren haben die Organisatore
 n der HLMC die Konferenz sowohl konzeptionell als auch inhaltlich auf vö
 llig neue Füße gestellt. Im Mittelpunkt stehen die folgenden Aspekte:\n\
 n	Neuigkeiten rund um SharePoint 2016\, was hat sich im Vergleich zu Share
 Point 2013 getan?\n	Anwenderberichte renommierter Unternehmen\, welche Erf
 ahrungen haben diese mit SharePoint gesammelt\n	Hybride Welten – Cloud o
 der On Premise? Oder beides? Welche Strategien verfolgt Microsoft und wie 
 passen\ndiese in unsere IT Landschaft?\n	Search – ein wesentliches Herau
 sstellungsmerkmal von SharePoint – wie kann dieses optimal genutzt werde
 n\,\nwie kann die Konfiguration optimiert werden?\n\nEs war nicht einfach\
 , so kurz nach der Veröffentlichung der Beta bereits eine Agenda für ein
 e Konferenz zusammen zu stellen. Daher hat es etwas länger gedauert als 
 die Jahre zuvor. Das Ergebnis kann sich sehen lassen\, wenn Sie einen Bli
 ck auf unsere Workshops und die Agenda werfen. Noch nie hatten die SharePo
 int Days eine derart prominent besetzte Agenda.\nKonditionen\nBis zum 06.
  November 2015 gilt noch der Frühbucherrabatt\, der gegenüber der regul
 ären Konferenzgebühr um 100\,00 Euro reduziert ist. Ebenso werden koste
 ngünstige Kombitickets für die Buchung der Konferenz in Kombination mit 
 einem Halbtages- oder Ganztagesworkshop angeboten.\nAgenda\, Infos und An
 meldung\nAlle Informationen zur Preisgestaltung sowie die Anmeldung auf de
 r Konferenzwebseite.
CATEGORIES:Konferenz
LOCATION:NH München Ost Konferenzcenter\, Einsteinring 20\, Aschheim-Dorna
 ch\, Bayern\, 85609\, Deutschland
GEO:48.14678869999999;11.687649999999962
X-APPLE-STRUCTURED-LOCATION;VALUE=URI;X-ADDRESS=Einsteinring 20\, Aschheim-
 Dornach\, Bayern\, 85609\, Deutschland;X-APPLE-RADIUS=100;X-TITLE=NH Münc
 hen Ost Konferenzcenter:geo:48.14678869999999,11.687649999999962
END:VEVENT
BEGIN:VTIMEZONE
TZID:Europe/Berlin
X-LIC-LOCATION:Europe/Berlin
BEGIN:STANDARD
DTSTART:20151025T020000
TZOFFSETFROM:+0200
TZOFFSETTO:+0100
TZNAME:CET
END:STANDARD
END:VTIMEZONE
END:VCALENDAR