BEGIN:VCALENDAR
VERSION:2.0
PRODID:-//wp-events-plugin.com//7.2.3.1//EN
TZID:Europe/Berlin
X-WR-TIMEZONE:Europe/Berlin
BEGIN:VEVENT
UID:6-50@sharepointsocial.de
DTSTART;TZID=Europe/Berlin:20150911T083000
DTEND;TZID=Europe/Berlin:20150911T183000
DTSTAMP:20150814T094712Z
URL:https://sharepointsocial.de/events/sharedev-cologne/
SUMMARY:ShareDev Cologne
DESCRIPTION:Die ShareDev Cologne richtet sich an Software-Entwickler\, tech
 nische Entscheider\, Architekten und IT-Professionals im Umfeld von ShareP
 oint\, Office 365 und Azure.\n\nSESSIONS\nAls eintägige Konferenz mit meh
 r als 24 Vorträgen bietet die ShareDev Cologne in kompakter Form die neue
 sten und wichtigsten Themen.\n\n\nBasierend auf unserem bewährten und bel
 iebten Konzept der Community-Konferenz dotnet Cologne bieten wir kompetent
 e Sprecher und interessante Sessions zu einem günstigen Eintrittspreis. D
 azu wie gewohnt genügend Zeit zum Networking und nicht zuletzt leckeres E
 ssen.\n\n\n\nSPRECHER\nUnsere Sprecher\, darunter 13 Microsoft MVPs\, sind
  Spezialisten auf ihrem Gebiet und verfügen über langjährige praktische
  Erfahrung.\n\n\nANMELDUNG\nhttp://www.sharedev-cologne.de/ bis 14.8.2015
  € 99\,- danach € 129\,-\n\n
ATTACH;FMTTYPE=image/jpeg:https://sharepointsocial.de/files/2015/07/sdc151
 50.png
CATEGORIES:Konferenz
LOCATION:Komed Köln\, Im MediaPark 7 \, Köln\, Deutschland
GEO:50.948869;6.942975499999989
X-APPLE-STRUCTURED-LOCATION;VALUE=URI;X-ADDRESS=Im MediaPark 7 \, Köln\, D
 eutschland;X-APPLE-RADIUS=100;X-TITLE=Komed Köln:geo:50.948869,6.94297549
 9999989
END:VEVENT
BEGIN:VTIMEZONE
TZID:Europe/Berlin
X-LIC-LOCATION:Europe/Berlin
BEGIN:DAYLIGHT
DTSTART:20150329T030000
TZOFFSETFROM:+0100
TZOFFSETTO:+0200
TZNAME:CEST
END:DAYLIGHT
END:VTIMEZONE
END:VCALENDAR