BEGIN:VCALENDAR
VERSION:2.0
PRODID:-//wp-events-plugin.com//7.2.3.1//EN
TZID:Europe/Berlin
X-WR-TIMEZONE:Europe/Berlin
BEGIN:VEVENT
UID:6-73@sharepointsocial.de
DTSTART;TZID=Europe/Berlin:20160607T090000
DTEND;TZID=Europe/Berlin:20160610T170000
DTSTAMP:20160329T104936Z
URL:https://sharepointsocial.de/events/shareconf-2016/
SUMMARY:ShareConf 2016
DESCRIPTION:Die ShareConf findet seit dem Jahr 2009 jährlich statt und adr
 essiert Anwender im Bereich SharePoint und Office 365. Sie hat sich in den
  vergangenen Jahren zur größten Networkung Plattform im deutschsprachige
 n Raum entwickelt und ist zu einem festen Bestandteil im Terminkalender vi
 eler Unternehmen geworden.\nNeuorientierung\nIm Jahr 2015 fand eine grundl
 egende Neuorientierung des Konzeptes der ShareConf statt\, die erstmals be
 i der ShareConf 2016 greifen wird. Diese Neuorientierung basiert auf dem F
 eedback zahlreicher Teilnehmer\, Referenten\, Sponsoren und Aussteller. De
 r Fokus der Konferenz setzt künftig auf die verstärkte Integration von A
 nwender- und Erfahrungsberichten von renommierten Unternehmen sowie die Pr
 äsentation von innovativen Lösungen rund um SharePoint und Office 365.\n
 \nEine zweite maßgebliche Innovation ist in der Integration interaktiver 
 Konferenzelemente zu sehen. Bisher bestand das Vortragsformat der Konferen
 z ausschließlich aus Frontalpräsentationen über 45 respektive 60 Minute
 n. Da durch dieses Format die Teilnehmer nur bedingt in die inhaltliche Ge
 staltung der Konferenz mit eingebunden wurden\, werden ab 2016 konferenzbe
 gleitend World Cafés\, interaktive Kurzworkshops\, Panel Discussions  un
 d Open Spaces in das Konferenzprogramm integriert.\n\nDurch diese Neuorien
 tierung wird das Networking der Teilnehmer deutlich intensiviert und der N
 utzen der Konferenz einen höheren Stellenwert erhalten.\n\nDie HLMC Event
 s GmbH als Veranstalter der ShareConf ist hierzu mit zahlreichen Unternehm
 en in intensiven Gesprächen. Interessierte Unternehmen können jederzeit 
 über die Mailadresse shareconf@hlmc.de mit dem Veranstalter in Kontakt tr
 eten.\nAgenda\, Info und Anmeldung\nAuf der Eventwebsite gibt es alle Info
 s rund um die Konferenz\, mit dem Code für die SharePointCommunity gibt e
 s einen 10% Rabatt auf die Konferenzpreise\n\n[su_service title="10 % Code
  SC16_MG_10%" icon="icon: ticket" icon_color="#c004af" size="20"][/su_serv
 ice]\n\nAnmeldung und Buchung\n\n&nbsp\;
CATEGORIES:Konferenz
LOCATION:nh Hotel Frankfurt/Mörfelden\, Hessenring 9\, Mörfelden-Walldorf
 \, 64546\, Deutschland
GEO:49.9845645;8.585552600000028
X-APPLE-STRUCTURED-LOCATION;VALUE=URI;X-ADDRESS=Hessenring 9\, Mörfelden-W
 alldorf\, 64546\, Deutschland;X-APPLE-RADIUS=100;X-TITLE=nh Hotel Frankfur
 t/Mörfelden:geo:49.9845645,8.585552600000028
END:VEVENT
BEGIN:VTIMEZONE
TZID:Europe/Berlin
X-LIC-LOCATION:Europe/Berlin
BEGIN:DAYLIGHT
DTSTART:20160327T030000
TZOFFSETFROM:+0100
TZOFFSETTO:+0200
TZNAME:CEST
END:DAYLIGHT
END:VTIMEZONE
END:VCALENDAR