BEGIN:VCALENDAR
VERSION:2.0
PRODID:-//wp-events-plugin.com//7.2.3.1//EN
TZID:Europe/Berlin
X-WR-TIMEZONE:Europe/Berlin
BEGIN:VEVENT
UID:0-2388@sharepointsocial.de
DTSTART;TZID=Europe/Berlin:20240717T090000
DTEND;TZID=Europe/Berlin:20240717T130000
DTSTAMP:20240627T132521Z
URL:https://sharepointsocial.de/events/season-of-ai-microsoft-cologne/
SUMMARY:Season of AI @Microsoft Cologne
DESCRIPTION:\nDetails\n\n\n09.00 bis 09.15 Uhr\nWelcome\nJulia Kordick\nGlo
 bal Black Belt - Developer Audience @Microsoft\n09.15 bis 10.45 Uhr\nAzure
  AI\nAlexander Wachtel\nMicrosoft AI MVP &amp\; MCT\, CEO @ESC Deutschland
  GmbH\n10.45 bis 11.15 Uhr\nPause und Networking\n11.15 bis 12.45 Uhr\nRes
 ponsible AI\nRaphael Köllner\nMicrosoft MVP Office 365 Apps &amp\; Servic
 es\, CEO @KöllnService GmbH\n12.45 bis 13.00 Uhr\nClosing\n\nAnmeldung: h
 ttps://www.meetup.com/global-ai-cologne/events/301895989\n&nbsp\;\n\n
CATEGORIES:Meetup,Partnerevent
LOCATION:Microsoft Niederlassung Köln\, Holzmarkt 2a\, Köln\, 50676\, Deu
 tschland
GEO:50.92876;6.963200000000029
X-APPLE-STRUCTURED-LOCATION;VALUE=URI;X-ADDRESS=Holzmarkt 2a\, Köln\, 5067
 6\, Deutschland;X-APPLE-RADIUS=100;X-TITLE=Microsoft Niederlassung Köln:g
 eo:50.92876,6.963200000000029
END:VEVENT
BEGIN:VTIMEZONE
TZID:Europe/Berlin
X-LIC-LOCATION:Europe/Berlin
BEGIN:DAYLIGHT
DTSTART:20240331T030000
TZOFFSETFROM:+0100
TZOFFSETTO:+0200
TZNAME:CEST
END:DAYLIGHT
END:VTIMEZONE
END:VCALENDAR