BEGIN:VCALENDAR
VERSION:2.0
PRODID:-//wp-events-plugin.com//7.2.3.1//EN
TZID:Europe/Berlin
X-WR-TIMEZONE:Europe/Berlin
BEGIN:VEVENT
UID:6-546@sharepointsocial.de
DTSTART;TZID=Europe/Berlin:20171108T090000
DTEND;TZID=Europe/Berlin:20171109T180000
DTSTAMP:20170902T144350Z
URL:https://sharepointsocial.de/events/salessucks/
SUMMARY:SalesSucks
DESCRIPTION:Vertriebs- und Verhandlungsstrategien in der IT und HighTec Bra
 nche - Exklusiver zweitägiger premium Workshop für IT-Vertriebsleiter un
 d Verkäufer\, Geschäftsführer von IT-Lösungsanbietern sowie Software- 
 und Hardware-Häusern\, Leiter und Führungskräfte aus den Bereichen Vert
 riebssteuerung\, Verkaufsförderung und Marketing sowie Beratungsunternehm
 en.\n\nTrainer\nNicki Borell ist seit vielen Jahren Berater und Verkäufer
  in der Enterprise IT und im gehobenen Mittelstand. Profitieren Sie von se
 inen Erfahrungen als erfolgreicher Microsoft P-Seller und Mitglied des Mic
 rosoft P-Seller Circles.\n...geht es im Seminar „Vertriebs- und Verhandl
 ungsstrategien in der IT und HighTec Branche.“ darum bewährte Techniken
  unter den Anforderungen neuer Märkte neu zu definieren?! NEIN - Es geht 
 um mehr!\nAnmeldung und weitere Infos  über die Website \n
CATEGORIES:Seminar
LOCATION:Sheraton Frankfurt Airport\, Airport Terminal 1\, Frankfurt\, 6054
 9\, Deutschland
GEO:50.0503603;8.570263599999976
X-APPLE-STRUCTURED-LOCATION;VALUE=URI;X-ADDRESS=Airport Terminal 1\, Frankf
 urt\, 60549\, Deutschland;X-APPLE-RADIUS=100;X-TITLE=Sheraton Frankfurt Ai
 rport:geo:50.0503603,8.570263599999976
END:VEVENT
BEGIN:VTIMEZONE
TZID:Europe/Berlin
X-LIC-LOCATION:Europe/Berlin
BEGIN:STANDARD
DTSTART:20171029T020000
TZOFFSETFROM:+0200
TZOFFSETTO:+0100
TZNAME:CET
END:STANDARD
END:VTIMEZONE
END:VCALENDAR