BEGIN:VCALENDAR
VERSION:2.0
PRODID:-//wp-events-plugin.com//7.2.3.1//EN
TZID:Europe/Berlin
X-WR-TIMEZONE:Europe/Berlin
BEGIN:VEVENT
UID:6-39@sharepointsocial.de
DTSTART;TZID=Europe/Berlin:20150326T143000
DTEND;TZID=Europe/Berlin:20150326T160000
DTSTAMP:20150324T100314Z
URL:https://sharepointsocial.de/events/rechtliche-grundlagen-fuer-die-clou
 d-nutzung-in-deutschland/
SUMMARY:Rechtliche Grundlagen für die Cloud-Nutzung in Deutschland
DESCRIPTION:Cloud Computing stellt mehr als nur einen kurzfristigen Trend d
 ar. Kunden profitieren von einer professionellen Infrastruktur ohne hohe A
 nschaffungs- und Betriebskosten und höhere Flexibilität im Umgang mit de
 r IT. Cloud Computing und die damit einhergehende Rechtsfragen im Bereich 
 Datenschutz und Sicherheit sind deshalb relevante Themen. Wie sehen vor di
 esem Hintergrund die aktuellen Entwicklungen in den Bereichen Datenschutz 
 und Datensicherheit in der Microsoft Cloud aus? Wie sorgt Microsoft für d
 ie Einhaltung von deutschem und europäischem Datenschutzrecht?\n\nGemeins
 am mit Rechtsanwalt Wilfried Reiners\, PRW (PRW Rechtsanwälte Reiners Wil
 ser Schloßmacher Herrmann PartG mbB) informiert Microsoft in diesem Live-
 Webcast über wichtige rechtliche Grundlagen für die Cloud Nutzung in Deu
 tschland.\n\n[su_box title="Info + Anmeldung" style="soft"]Infos und Anmel
 dung über die Eventwebsite[/su_box]
CATEGORIES:Webcast
END:VEVENT
BEGIN:VTIMEZONE
TZID:Europe/Berlin
X-LIC-LOCATION:Europe/Berlin
BEGIN:STANDARD
DTSTART:20141026T020000
TZOFFSETFROM:+0200
TZOFFSETTO:+0100
TZNAME:CET
END:STANDARD
END:VTIMEZONE
END:VCALENDAR