BEGIN:VCALENDAR
VERSION:2.0
PRODID:-//wp-events-plugin.com//7.2.3.1//EN
TZID:Europe/Berlin
X-WR-TIMEZONE:Europe/Berlin
BEGIN:VEVENT
UID:0-1565@sharepointsocial.de
DTSTART;TZID=Europe/Berlin:20200924T220000
DTEND;TZID=Europe/Berlin:20200924T233000
DTSTAMP:20200821T121353Z
URL:https://sharepointsocial.de/events/rdbuzz-late-night-show-zur-ignite-2
 020/
SUMMARY:RDbuzz Late Night Show zur Ignite 2020
DESCRIPTION:Office 365 Meetup\n\nWir freuen freuen uns eine neue Art der Be
 richterstattung ankündigen zu können. Als Ignite Recap wird es zum erste
 n Mal eine Late Night Show geben\, die mit Gästen und einer Live Band aus
 gestrahlt wird.\n\nNatürlich ist jeder in der ersten Reihe mit dem neuen 
 Microsoft Teams Together Mode dabei. Sei also am 24. September 2020 mit Mi
 crosoft Teams dabei.\n\nNähere Informationen folgen und auch der Einwahll
 ink folgt!\n\nIdee aus der Community\, Umsetzung aus der Community. #Teams
 nolimits
CATEGORIES:Meetup
LOCATION:https://www.meetup.com/de-DE/Office-365-Meetup/events/272661417/
END:VEVENT
BEGIN:VTIMEZONE
TZID:Europe/Berlin
X-LIC-LOCATION:Europe/Berlin
BEGIN:DAYLIGHT
DTSTART:20200329T030000
TZOFFSETFROM:+0100
TZOFFSETTO:+0200
TZNAME:CEST
END:DAYLIGHT
END:VTIMEZONE
END:VCALENDAR