BEGIN:VCALENDAR
VERSION:2.0
PRODID:-//wp-events-plugin.com//7.2.3.1//EN
TZID:Europe/Berlin
X-WR-TIMEZONE:Europe/Berlin
BEGIN:VEVENT
UID:6-74@sharepointsocial.de
DTSTART;TZID=Europe/Berlin:20160229T090000
DTEND;TZID=Europe/Berlin:20160302T170000
DTSTAMP:20160126T151144Z
URL:https://sharepointsocial.de/events/ppedv-sharepointkonferenz/
SUMMARY:PPEDV SharePointKonferenz
DESCRIPTION:SharePointKonferenz 2016 ... for Developer .. by PPEDV\n\nInfo
 s\, Agenda und Anmeldung
CATEGORIES:Konferenz
LOCATION:Stadthalle Erding\, Alois-Schießl-Platz 1\, Erding\, 85435\, Deut
 schland
GEO:48.3080996;11.904919999999947
X-APPLE-STRUCTURED-LOCATION;VALUE=URI;X-ADDRESS=Alois-Schießl-Platz 1\, Er
 ding\, 85435\, Deutschland;X-APPLE-RADIUS=100;X-TITLE=Stadthalle Erding:ge
 o:48.3080996,11.904919999999947
END:VEVENT
BEGIN:VTIMEZONE
TZID:Europe/Berlin
X-LIC-LOCATION:Europe/Berlin
BEGIN:STANDARD
DTSTART:20151025T020000
TZOFFSETFROM:+0200
TZOFFSETTO:+0100
TZNAME:CET
END:STANDARD
END:VTIMEZONE
END:VCALENDAR