BEGIN:VCALENDAR
VERSION:2.0
PRODID:-//wp-events-plugin.com//7.2.3.1//EN
TZID:Europe/Berlin
X-WR-TIMEZONE:Europe/Berlin
BEGIN:VEVENT
UID:0-1907@sharepointsocial.de
DTSTART;TZID=Europe/Berlin:20211116T090000
DTEND;TZID=Europe/Berlin:20211116T151500
DTSTAMP:20211025T103930Z
URL:https://sharepointsocial.de/events/power-summit-m365-circle/
SUMMARY:Power Summit M365 Circle
DESCRIPTION:Willkommen bei der Power Summit!\nDie Power Summit ist eine Sum
 mit des M365 Circle und bietet spannende Vorträge zum Thema Powerplattfor
 m. Unsere Formate „Teams Summit“\, „SharePoint Summit“ und „M365
  Summit“ haben einen großen Anklang gefunden\, weshalb wir unsere Theme
 nbereiche nun ausweiten wollen. Bei der Power Summit werden wir Aktuelles 
 und Neuigkeiten zum Thema Powerplattform vorstellen.\nWas wir bieten?\n\n
  	Expertenvorträge von ausgewählten Speakern\n 	Möglichkeiten zum Netwo
 rking in Zeiten des HomeOffice\n 	Eine Plattform zum Austauschen mit ande
 ren Teilnehmern\n 	Expertenrunde zu Powerplattform\n\nWas wir von dir verl
 angen?\n\n 	Nichts! Deine Teilnahme ist 100% kostenfrei\n\nSichere dir jet
 zt dein kostenloses Ticket!
CATEGORIES:Konferenz,Meetup
LOCATION:https://www.m365-summits.de/event/power-summit-16-november-2021
END:VEVENT
BEGIN:VTIMEZONE
TZID:Europe/Berlin
X-LIC-LOCATION:Europe/Berlin
BEGIN:STANDARD
DTSTART:20211031T020000
TZOFFSETFROM:+0200
TZOFFSETTO:+0100
TZNAME:CET
END:STANDARD
END:VTIMEZONE
END:VCALENDAR