BEGIN:VCALENDAR
VERSION:2.0
PRODID:-//wp-events-plugin.com//7.2.3.1//EN
TZID:Europe/Berlin
X-WR-TIMEZONE:Europe/Berlin
BEGIN:VEVENT
UID:6-100@sharepointsocial.de
DTSTART;TZID=Europe/Berlin:20160302T100000
DTEND;TZID=Europe/Berlin:20160302T104500
DTSTAMP:20160217T124152Z
URL:https://sharepointsocial.de/events/owncloud-windows-network-drives-sha
 repoint-und-weitere-integrationsmoeglichkeiten/
SUMMARY:ownCloud Windows Network Drives\, SharePoint und weitere Integratio
 nsmöglichkeiten
DESCRIPTION:Ein owncloud Webinar\n\nNehmen Sie am deutschsprachigen technis
 chen Webinar am 2. März 2016 um 10 Uhr teil\, um ownCloud’s erweiterte 
 Integrationsfunktionalitäten kennenzulernen. ownCloud‘s APIs ermöglich
 en es\, auf Dateien an verschiedenen Speicherorten via ownCloud Oberfläch
 e zuzugreifen- ganz ohne Migration der Daten. Entsprechend kann auch über
  verschiedene Datensilos hinweg der Dateizugriff erfolgen. Nehmen Sie an d
 iesem technischen Webinar teil und erfahren Sie\, wie Sie:\n\n	externe Spe
 icher und File Shares konfigurieren\, um bestehende ACLs und Policies beiz
 ubehalten\n	den Zugang zu Ressourcen mit bestehenden LDAP/AD Policies erm
 öglichen\n	eine nahtlose User Experience sicherstellen\n\nIn diesem Webin
 ar wird hauptsächlich die Integration von Windows Network Drives und Shar
 ePoint behandelt und in einer Live Demonstration gezeigt. Darüber hinaus 
 werden auch weitere Integrationsfunktionalitäten besprochen. Begeiten Sie
  ownClouds Technikexperten in dieser interaktiven Session.\nEckdaten\nDatu
 m: 2. März 2016\, 10.00-10.45\nSprache: Deutsch\nSprecher: Matthias Schmi
 d\, Sales Engineer EMEA ownCloud\nAnmeldung\nAmeldung über die Eventwebsi
 te
CATEGORIES:Webcast
END:VEVENT
BEGIN:VTIMEZONE
TZID:Europe/Berlin
X-LIC-LOCATION:Europe/Berlin
BEGIN:STANDARD
DTSTART:20151025T020000
TZOFFSETFROM:+0200
TZOFFSETTO:+0100
TZNAME:CET
END:STANDARD
END:VTIMEZONE
END:VCALENDAR