BEGIN:VCALENDAR
VERSION:2.0
PRODID:-//wp-events-plugin.com//7.2.3.1//EN
TZID:Europe/Berlin
X-WR-TIMEZONE:Europe/Berlin
BEGIN:VEVENT
UID:6-41@sharepointsocial.de
DTSTART;TZID=Europe/Berlin:20150519T093000
DTEND;TZID=Europe/Berlin:20150519T170000
DTSTAMP:20150331T144825Z
URL:https://sharepointsocial.de/events/owncloud-connects/
SUMMARY:ownCloud Connects
DESCRIPTION:ownCloud lädt zur Veranstaltung ownCloud Connects am Dienstag\
 , 19. Mai 2015 nach München ein.\n\nHat die Cloud die Welt verändert? Ne
 hmen Sie teil und diskutieren Sie mit.\n\nNutzer fordern flexiblen Datenzu
 griff und Austausch- von verschiedenen Geräten und Standorten. Demgegenü
 ber stehen Sicherheits- und Compliance Richtlinien der IT.\n\nLernen Sie v
 or Ort die Vorteile von ownCloud kennen\, die Public Cloud Flexibilität m
 it Private Cloud Sicherheit bietet. Hören Sie mehr über Universal File A
 ccess und lernen Sie aktuelle Kundenprojekte anhand von Case Study Vorträ
 gen kennen. Nutzen Sie die Gelegenheit\, sich mit unseren Kunden\, Interes
 senten und Partnern auszutauschen. Erfahren Sie vom Markt- und SharePointe
 xperten Michael Greth mehr über die Moderne Art der Kommunikation und Zus
 ammenarbeit\, und wie die Cloud die Welt verändert hat. Erhalten Sie Einb
 lick in ownCloud‘s Vision und Zukunft.\n\nMelden Sie sich jetzt an und s
 ichern Sie sich einen Platz. Wir bitten um Ihr Verständnis\, dass die Tei
 lnehmerzahl limitiert ist.\n\n&nbsp\;\n\nEckdaten\nDATUM: Dienstag\, 19.05
 .2015\nZEIT: von 9:30 bis 17.00\nORT: München (die Adresse erhalten Sie i
 m Zuge der Registrierungsbestätigung).\nSPRACHE: Deutsch\nTEILNAHME: Kost
 enlos\nSPONSOREN: Redhat &amp\; ACP IT Solutions
ATTACH;FMTTYPE=image/jpeg:https://sharepointsocial.de/files/2015/02/ownlog
 o.png
CATEGORIES:Partnerevent
LOCATION:owncloud\, ohne\, München\, Deutschland
GEO:48.1351253;11.581980599999952
X-APPLE-STRUCTURED-LOCATION;VALUE=URI;X-ADDRESS=ohne\, München\, Deutschla
 nd;X-APPLE-RADIUS=100;X-TITLE=owncloud:geo:48.1351253,11.581980599999952
END:VEVENT
BEGIN:VTIMEZONE
TZID:Europe/Berlin
X-LIC-LOCATION:Europe/Berlin
BEGIN:DAYLIGHT
DTSTART:20150329T030000
TZOFFSETFROM:+0100
TZOFFSETTO:+0200
TZNAME:CEST
END:DAYLIGHT
END:VTIMEZONE
END:VCALENDAR